BEGIN:VCALENDAR
VERSION:2.0
PRODID:-//UniteBoston - ECPv6.15.20//NONSGML v1.0//EN
CALSCALE:GREGORIAN
METHOD:PUBLISH
X-ORIGINAL-URL:https://uniteboston.com
X-WR-CALDESC:Events for UniteBoston
REFRESH-INTERVAL;VALUE=DURATION:PT1H
X-Robots-Tag:noindex
X-PUBLISHED-TTL:PT1H
BEGIN:VTIMEZONE
TZID:America/New_York
BEGIN:DAYLIGHT
TZOFFSETFROM:-0500
TZOFFSETTO:-0400
TZNAME:EDT
DTSTART:20250309T070000
END:DAYLIGHT
BEGIN:STANDARD
TZOFFSETFROM:-0400
TZOFFSETTO:-0500
TZNAME:EST
DTSTART:20251102T060000
END:STANDARD
BEGIN:DAYLIGHT
TZOFFSETFROM:-0500
TZOFFSETTO:-0400
TZNAME:EDT
DTSTART:20260308T070000
END:DAYLIGHT
BEGIN:STANDARD
TZOFFSETFROM:-0400
TZOFFSETTO:-0500
TZNAME:EST
DTSTART:20261101T060000
END:STANDARD
BEGIN:DAYLIGHT
TZOFFSETFROM:-0500
TZOFFSETTO:-0400
TZNAME:EDT
DTSTART:20270314T070000
END:DAYLIGHT
BEGIN:STANDARD
TZOFFSETFROM:-0400
TZOFFSETTO:-0500
TZNAME:EST
DTSTART:20271107T060000
END:STANDARD
END:VTIMEZONE
BEGIN:VEVENT
DTSTART;TZID=America/New_York:20260421T190000
DTEND;TZID=America/New_York:20260519T203000
DTSTAMP:20260422T135228
CREATED:20260401T203929Z
LAST-MODIFIED:20260401T203929Z
UID:45083-1776798000-1779222600@uniteboston.com
SUMMARY:Subversive Witness Book Group
DESCRIPTION:The Boston Faith & Justice Network invites you to our latest book group starting April 21 via Zoom (7-8:30). We will be reading and reflecting on Subversive Witness by Dominique Dubois Gilliard. \nGilliard challenges us to see our biblical mandate not as passive observers\, but as active participants in God’s justice. This group offers a sacred space to be challenged\, to grow in community\, and to discern how we can collectively steward our influence for the sake of the marginalized. Join us as we explore what it means to be a Christian witness today.”
URL:https://uniteboston.com/event/subversive-witness-book-group/
LOCATION:Zoom\, MA\, United States
CATEGORIES:Featured
ATTACH;FMTTYPE=image/png:https://uniteboston.com/wp-content/uploads/2026/04/Book-Club-Flyer.png
ORGANIZER;CN="The Boston Faith & Justice Network":MAILTO:elizabeth@bostonfaithjustice.org
GEO:42.4072107;-71.3824374
END:VEVENT
END:VCALENDAR