BEGIN:VCALENDAR
VERSION:2.0
PRODID:-//UniteBoston - ECPv6.15.20//NONSGML v1.0//EN
CALSCALE:GREGORIAN
METHOD:PUBLISH
X-ORIGINAL-URL:https://uniteboston.com
X-WR-CALDESC:Events for UniteBoston
REFRESH-INTERVAL;VALUE=DURATION:PT1H
X-Robots-Tag:noindex
X-PUBLISHED-TTL:PT1H
BEGIN:VTIMEZONE
TZID:America/New_York
BEGIN:DAYLIGHT
TZOFFSETFROM:-0500
TZOFFSETTO:-0400
TZNAME:EDT
DTSTART:20240310T070000
END:DAYLIGHT
BEGIN:STANDARD
TZOFFSETFROM:-0400
TZOFFSETTO:-0500
TZNAME:EST
DTSTART:20241103T060000
END:STANDARD
BEGIN:DAYLIGHT
TZOFFSETFROM:-0500
TZOFFSETTO:-0400
TZNAME:EDT
DTSTART:20250309T070000
END:DAYLIGHT
BEGIN:STANDARD
TZOFFSETFROM:-0400
TZOFFSETTO:-0500
TZNAME:EST
DTSTART:20251102T060000
END:STANDARD
BEGIN:DAYLIGHT
TZOFFSETFROM:-0500
TZOFFSETTO:-0400
TZNAME:EDT
DTSTART:20260308T070000
END:DAYLIGHT
BEGIN:STANDARD
TZOFFSETFROM:-0400
TZOFFSETTO:-0500
TZNAME:EST
DTSTART:20261101T060000
END:STANDARD
END:VTIMEZONE
BEGIN:VEVENT
DTSTART;TZID=America/New_York:20251101T123000
DTEND;TZID=America/New_York:20251101T153000
DTSTAMP:20260422T231233
CREATED:20251029T193023Z
LAST-MODIFIED:20251029T193023Z
UID:38432-1762000200-1762011000@uniteboston.com
SUMMARY:Dance Workshops [Cultivate BOS]
DESCRIPTION:Boston’s Christian dance workshops\, using dance to cultivate Spirit-led worship and community – Hip Hop\, Contemporary\, and more! All are welcome – register for one or both classes!
URL:https://uniteboston.com/event/dance-workshops-cultivate-bos-2/
LOCATION:Salsa y Control\, 161 Harvard Avenue #13B\, Boston\, 02134\, United States
CATEGORIES:Community Outreach,Prayer,Social,Training,Worship
ATTACH;FMTTYPE=image/png:https://uniteboston.com/wp-content/uploads/2025/10/21.png
ORGANIZER;CN="Cultivate Dance Collective":MAILTO:cultivatebos@gmail.com
GEO:42.3513542;-71.1317819
X-APPLE-STRUCTURED-LOCATION;VALUE=URI;X-ADDRESS=Salsa y Control 161 Harvard Avenue #13B Boston 02134 United States;X-APPLE-RADIUS=500;X-TITLE=161 Harvard Avenue #13B:geo:-71.1317819,42.3513542
END:VEVENT
BEGIN:VEVENT
DTSTART;TZID=America/New_York:20251018T123000
DTEND;TZID=America/New_York:20251018T153000
DTSTAMP:20260422T231233
CREATED:20251013T192123Z
LAST-MODIFIED:20251013T193002Z
UID:38134-1760790600-1760801400@uniteboston.com
SUMMARY:Dance Workshops [Cultivate BOS]
DESCRIPTION:Boston’s Christian dance workshops\, using dance to cultivate Spirit-led worship and community – Hip Hop\, Contemporary\, and more! All are welcome – register for one or both classes! \n12:30-2:00 Beginner Contemporary Floorwork with Isabelle Tenorio \n2:00-3:30 Advanced Choreography with Kevin Tenorio
URL:https://uniteboston.com/event/dance-workshops-cultivate-bos/
LOCATION:Salsa y Control\, 161 Harvard Avenue #13B\, Boston\, 02134\, United States
CATEGORIES:Community Outreach,Social,Training,Worship
ATTACH;FMTTYPE=image/png:https://uniteboston.com/wp-content/uploads/2025/10/15.png
ORGANIZER;CN="Cultivate Dance Collective":MAILTO:cultivatebos@gmail.com
GEO:42.3513542;-71.1317819
X-APPLE-STRUCTURED-LOCATION;VALUE=URI;X-ADDRESS=Salsa y Control 161 Harvard Avenue #13B Boston 02134 United States;X-APPLE-RADIUS=500;X-TITLE=161 Harvard Avenue #13B:geo:-71.1317819,42.3513542
END:VEVENT
BEGIN:VEVENT
DTSTART;TZID=America/New_York:20251004T123000
DTEND;TZID=America/New_York:20251004T153000
DTSTAMP:20260422T231233
CREATED:20250930T142232Z
LAST-MODIFIED:20250930T142253Z
UID:37797-1759581000-1759591800@uniteboston.com
SUMMARY:Christian Dance Workshops [Cultivate BOS] October 4
DESCRIPTION:Boston’s Christian dance workshop\, using dance to cultivate Spirit-led worship and community – Hip Hop\, Contemporary\, and more! \n12:30 – 2:00 PM – Beginner Choreography w Jessica Ruiz \n2:00 – 3:30 PM – Advanced Choreography w Jessica Ruiz \n$15/class or $26 for both
URL:https://uniteboston.com/event/christian-dance-workshops-cultivate-bos-october-4/
LOCATION:Salsa y Control\, 161 Harvard Avenue #13B\, Boston\, 02134\, United States
CATEGORIES:Fundraiser,Social,Training,Worship
ATTACH;FMTTYPE=image/png:https://uniteboston.com/wp-content/uploads/2025/09/Cultivate-Summer-2025.png.png
ORGANIZER;CN="Cultivate Dance Collective":MAILTO:cultivatebos@gmail.com
GEO:42.3513542;-71.1317819
X-APPLE-STRUCTURED-LOCATION;VALUE=URI;X-ADDRESS=Salsa y Control 161 Harvard Avenue #13B Boston 02134 United States;X-APPLE-RADIUS=500;X-TITLE=161 Harvard Avenue #13B:geo:-71.1317819,42.3513542
END:VEVENT
END:VCALENDAR