BEGIN:VCALENDAR
VERSION:2.0
PRODID:-//UniteBoston - ECPv6.15.20//NONSGML v1.0//EN
CALSCALE:GREGORIAN
METHOD:PUBLISH
X-ORIGINAL-URL:https://uniteboston.com
X-WR-CALDESC:Events for UniteBoston
REFRESH-INTERVAL;VALUE=DURATION:PT1H
X-Robots-Tag:noindex
X-PUBLISHED-TTL:PT1H
BEGIN:VTIMEZONE
TZID:America/New_York
BEGIN:DAYLIGHT
TZOFFSETFROM:-0500
TZOFFSETTO:-0400
TZNAME:EDT
DTSTART:20250309T070000
END:DAYLIGHT
BEGIN:STANDARD
TZOFFSETFROM:-0400
TZOFFSETTO:-0500
TZNAME:EST
DTSTART:20251102T060000
END:STANDARD
BEGIN:DAYLIGHT
TZOFFSETFROM:-0500
TZOFFSETTO:-0400
TZNAME:EDT
DTSTART:20260308T070000
END:DAYLIGHT
BEGIN:STANDARD
TZOFFSETFROM:-0400
TZOFFSETTO:-0500
TZNAME:EST
DTSTART:20261101T060000
END:STANDARD
BEGIN:DAYLIGHT
TZOFFSETFROM:-0500
TZOFFSETTO:-0400
TZNAME:EDT
DTSTART:20270314T070000
END:DAYLIGHT
BEGIN:STANDARD
TZOFFSETFROM:-0400
TZOFFSETTO:-0500
TZNAME:EST
DTSTART:20271107T060000
END:STANDARD
END:VTIMEZONE
BEGIN:VEVENT
DTSTART;TZID=America/New_York:20260501T140000
DTEND;TZID=America/New_York:20260502T170000
DTSTAMP:20260421T041220
CREATED:20260410T131718Z
LAST-MODIFIED:20260410T131746Z
UID:45466-1777644000-1777741200@uniteboston.com
SUMMARY:TABCOM Annual Gathering
DESCRIPTION:The TABCOM Annual Gathering will be held May 1–2\, 2026\, at the First Baptist Church of Worcester\, 111 Park Ave\, Worcester\, MA 01609. \nThis year’s theme is “Building Bridges.” \nGrounded in Ephesians 2:19–22\, the 2026 TABCOM Annual Gathering invites us to reflect on our shared identity as members of God’s household. We are reminded that we are no longer strangers\, but one body in Christ—built together with Christ as our cornerstone. \nIn a time when divisions can feel strong\, this gathering calls us to unity\, reconciliation\, and deeper connection across cultures\, generations\, and communities. Together\, we will explore what it means to truly live as a people who build bridges—within our churches and beyond. \nWe are honored to welcome UniteBoston’s own Rev. Kelly Fassett as our plenary speaker\, Rev. Dr. J. Anthony Lloyd as this year’s keynote preacher\, and Rev. Dr. Mary Day Hamel who will be our Friday night preacher. \nHosted by the First Baptist Church in Worcester\, the Annual Gathering will include inspiring worship\, meaningful teaching\, and opportunities for fellowship and connection. \nWe will also celebrate church anniversaries\, recognize ordination milestones\, and give thanks for the shared ministry we hold together as American Baptists in Massachusetts. \nCome and be part of what God is building—one house\, many nations\, united in Christ. \nRegister Here
URL:https://uniteboston.com/event/tabcom-annual-gathering/
LOCATION:First Baptist Church in Worcester\, 111 Park Ave\, Worcester\, MA 01609\, Worcester\, 01609\, United States
CATEGORIES:College Students,Featured,Justice,Lecture,Pastors,Prayer,Singles,Social,Training,Worship
ATTACH;FMTTYPE=image/png:https://uniteboston.com/wp-content/uploads/2026/04/TAG2026-1.png
ORGANIZER;CN="TABCOM":MAILTO:miller@tabcom.org
GEO:42.2767255;-71.8094625
X-APPLE-STRUCTURED-LOCATION;VALUE=URI;X-ADDRESS=First Baptist Church in Worcester 111 Park Ave Worcester MA 01609 Worcester 01609 United States;X-APPLE-RADIUS=500;X-TITLE=111 Park Ave\, Worcester\, MA 01609:geo:-71.8094625,42.2767255
END:VEVENT
END:VCALENDAR