BEGIN:VCALENDAR
VERSION:2.0
PRODID:-//UniteBoston - ECPv6.15.20//NONSGML v1.0//EN
CALSCALE:GREGORIAN
METHOD:PUBLISH
X-ORIGINAL-URL:https://uniteboston.com
X-WR-CALDESC:Events for UniteBoston
REFRESH-INTERVAL;VALUE=DURATION:PT1H
X-Robots-Tag:noindex
X-PUBLISHED-TTL:PT1H
BEGIN:VTIMEZONE
TZID:America/New_York
BEGIN:DAYLIGHT
TZOFFSETFROM:-0500
TZOFFSETTO:-0400
TZNAME:EDT
DTSTART:20250309T070000
END:DAYLIGHT
BEGIN:STANDARD
TZOFFSETFROM:-0400
TZOFFSETTO:-0500
TZNAME:EST
DTSTART:20251102T060000
END:STANDARD
BEGIN:DAYLIGHT
TZOFFSETFROM:-0500
TZOFFSETTO:-0400
TZNAME:EDT
DTSTART:20260308T070000
END:DAYLIGHT
BEGIN:STANDARD
TZOFFSETFROM:-0400
TZOFFSETTO:-0500
TZNAME:EST
DTSTART:20261101T060000
END:STANDARD
BEGIN:DAYLIGHT
TZOFFSETFROM:-0500
TZOFFSETTO:-0400
TZNAME:EDT
DTSTART:20270314T070000
END:DAYLIGHT
BEGIN:STANDARD
TZOFFSETFROM:-0400
TZOFFSETTO:-0500
TZNAME:EST
DTSTART:20271107T060000
END:STANDARD
END:VTIMEZONE
BEGIN:VEVENT
DTSTART;TZID=America/New_York:20260405T103000
DTEND;TZID=America/New_York:20260405T123000
DTSTAMP:20260422T152101
CREATED:20260327T224737Z
LAST-MODIFIED:20260327T224811Z
UID:44801-1775385000-1775392200@uniteboston.com
SUMMARY:Easter at the Hyatt  Regency Cambridge
DESCRIPTION:Join us at the Hyatt for a vibrant Easter celebration centered around this year’s theme: Planted. Just as seeds are planted in the soil to grow and flourish\, we believe God has planted each of us with purpose\, promise\, and potential. Easter reminds us that what may seem buried is not forgotten—new life is on the way. \nExperience uplifting worship\, an encouraging message\, and a welcoming atmosphere for the whole family. Whether you’ve been part of our community for years or this is your first time joining us\, there is a place for you here. \nIf you have any questions please email us at info@alccamb.org
URL:https://uniteboston.com/event/easter-at-the-hyatt-regency-cambridge/
LOCATION:Hyatt Regency Cambridge 575 Memorial Dr\, Cambridge\, MA 02139\, 575 Memorial Drive\, Cambridge\, 02139\, United States
CATEGORIES:Children/Families,Featured,Pastors,Prayer,Worship
ATTACH;FMTTYPE=image/png:https://uniteboston.com/wp-content/uploads/2026/03/Easter.png
GEO:42.3544178;-71.1057659
X-APPLE-STRUCTURED-LOCATION;VALUE=URI;X-ADDRESS=Hyatt Regency Cambridge 575 Memorial Dr Cambridge MA 02139 575 Memorial Drive Cambridge 02139 United States;X-APPLE-RADIUS=500;X-TITLE=575 Memorial Drive:geo:-71.1057659,42.3544178
END:VEVENT
BEGIN:VEVENT
DTSTART;TZID=America/New_York:20260404T110000
DTEND;TZID=America/New_York:20260404T150000
DTSTAMP:20260422T152101
CREATED:20260327T224304Z
LAST-MODIFIED:20260327T224617Z
UID:44758-1775300400-1775314800@uniteboston.com
SUMMARY:Easter Eggstravaganza
DESCRIPTION:Join us for an Easter Eggstravaganza at the Cambridge Community Center on April 4th from 11:00 AM – 3:00 PM! \n\n\n\n\nBring the whole family for a joyful afternoon filled with fun\, laughter\, and community connection. Kids will enjoy an exciting Easter egg hunt\, interactive games\, and delicious snacks. It’s a day designed especially for children to celebrate\, play\, and make lasting memories. \nParents and neighbors are invited to relax\, connect\, and fellowship while the kids enjoy the festivities. Whether you’re part of our church family or new to the community\, this is a wonderful opportunity to gather together and celebrate the season in a warm\, welcoming environment. \nRegistration is encouraged\, not required.  We can’t wait to see you there for a day full of fun\, friendship\, and Easter joy!
URL:https://uniteboston.com/event/easter-eggstravaganza/
LOCATION:Cambridge Community Center\, 5 Callender Street\, Cambridge\, 02139\, United States
CATEGORIES:Children/Families,Community Outreach,Featured,Social
ATTACH;FMTTYPE=image/png:https://uniteboston.com/wp-content/uploads/2026/03/Easter-2-2.png
GEO:42.3656418;-71.1112901
X-APPLE-STRUCTURED-LOCATION;VALUE=URI;X-ADDRESS=Cambridge Community Center 5 Callender Street Cambridge 02139 United States;X-APPLE-RADIUS=500;X-TITLE=5 Callender Street:geo:-71.1112901,42.3656418
END:VEVENT
BEGIN:VEVENT
DTSTART;TZID=America/New_York:20260228T180000
DTEND;TZID=America/New_York:20260228T210000
DTSTAMP:20260422T152101
CREATED:20260219T222617Z
LAST-MODIFIED:20260222T130801Z
UID:42379-1772301600-1772312400@uniteboston.com
SUMMARY:He Increase\, I Decrease (Art Gallery)
DESCRIPTION:Join us for an unforgettable Black History Month gallery honoring the legacy\, cultural impact\, and enduring presence of Black churches in Cambridge. Hosted by Abundant Life Church\, this evening celebrates the Black church as a cornerstone of spiritual life\, community building\, and artistic expression. Past\, present\, and future. \nInspired by John 3:30 — “He must increase\, and I must decrease” This gallery explores worship as an act of surrender\, a movement that transcends choreography and enters the sacred dialogue between body and spirit. In the Black church\, praise is not only sung but embodied: loud and intimate\, erratic yet fluid\, vulnerable yet unrestrained. \nThrough photography and performance\, He Increase\, I Decrease captures the fleeting\, ineffable expressions of faith where the body becomes both vessel and instrument\, yielding wholly to the presence of God.
URL:https://uniteboston.com/event/he-increase-i-decrease-art-gallery/
LOCATION:Claire Carino Contemporary\, 450 Harrison Ave #29\,\, Boston\,\, 02118\, United States
CATEGORIES:Featured,Social
ATTACH;FMTTYPE=image/png:https://uniteboston.com/wp-content/uploads/2026/02/unnamed-9.png
GEO:42.3422408;-71.0642611
X-APPLE-STRUCTURED-LOCATION;VALUE=URI;X-ADDRESS=Claire Carino Contemporary 450 Harrison Ave #29 Boston 02118 United States;X-APPLE-RADIUS=500;X-TITLE=450 Harrison Ave #29\,:geo:-71.0642611,42.3422408
END:VEVENT
END:VCALENDAR