BEGIN:VCALENDAR
VERSION:2.0
PRODID:-//UniteBoston - ECPv6.15.20//NONSGML v1.0//EN
CALSCALE:GREGORIAN
METHOD:PUBLISH
X-ORIGINAL-URL:https://uniteboston.com
X-WR-CALDESC:Events for UniteBoston
REFRESH-INTERVAL;VALUE=DURATION:PT1H
X-Robots-Tag:noindex
X-PUBLISHED-TTL:PT1H
BEGIN:VTIMEZONE
TZID:America/New_York
BEGIN:DAYLIGHT
TZOFFSETFROM:-0500
TZOFFSETTO:-0400
TZNAME:EDT
DTSTART:20240310T070000
END:DAYLIGHT
BEGIN:STANDARD
TZOFFSETFROM:-0400
TZOFFSETTO:-0500
TZNAME:EST
DTSTART:20241103T060000
END:STANDARD
BEGIN:DAYLIGHT
TZOFFSETFROM:-0500
TZOFFSETTO:-0400
TZNAME:EDT
DTSTART:20250309T070000
END:DAYLIGHT
BEGIN:STANDARD
TZOFFSETFROM:-0400
TZOFFSETTO:-0500
TZNAME:EST
DTSTART:20251102T060000
END:STANDARD
BEGIN:DAYLIGHT
TZOFFSETFROM:-0500
TZOFFSETTO:-0400
TZNAME:EDT
DTSTART:20260308T070000
END:DAYLIGHT
BEGIN:STANDARD
TZOFFSETFROM:-0400
TZOFFSETTO:-0500
TZNAME:EST
DTSTART:20261101T060000
END:STANDARD
END:VTIMEZONE
BEGIN:VEVENT
DTSTART;TZID=America/New_York:20250128T140000
DTEND;TZID=America/New_York:20250128T163000
DTSTAMP:20260422T102857
CREATED:20250124T224219Z
LAST-MODIFIED:20250127T204211Z
UID:28398-1738072800-1738081800@uniteboston.com
SUMMARY:Information Meeting and Training Session - Know Your Rights
DESCRIPTION:The Mayor’s Office of Immigrant Advancement (MOIA) invites you to a virtual information meeting this Tuesday\, January 28th at 2pm regarding recent questions and concerns about Boston’s diverse immigrant community. This meeting is intended to provide important information and best practices and answer any questions for those who have raised them. \nFaith-Based MOIA Information Meeting RSVP \nFollowing that meeting\, Massachusetts religious leaders are encouraged to attend a “Know Your Rights” online training on Tuesday January 28\, 2025 from 3:30pm-4:30pm\, presented by the Massachusetts Attorney General’s Oﬀice and the Oﬀice of Immigrants and Refugees\, hosted by the Jewish Community Relations Council of Greater Boston and the Massachusetts Council of Churches. You must register to attend this training. “Know Your Rights for Massachusetts Religious Leaders” will be recorded. This session will be recorded\, and your attendance will be anonymous. If you cannot attend\, please sign up to receive a recording. \nParticipants will receive a webinar link by noon on the date of the training. Register HERE.
URL:https://uniteboston.com/event/information-meeting-and-training-session-know-your-rights/
LOCATION:Online Event\, Online Event\, Boston\, MA\, 02120\, United States
CATEGORIES:Community Outreach,Featured,Justice,Lecture,Pastors,Training
ATTACH;FMTTYPE=image/jpeg:https://uniteboston.com/wp-content/uploads/2025/01/474759804_1014310107403933_2688724775321714925_n.jpg
ORGANIZER;CN="Massachusetts Council of Churches":MAILTO:council@masscouncilofchurches.org
GEO:42.3373143;-71.0836938
X-APPLE-STRUCTURED-LOCATION;VALUE=URI;X-ADDRESS=Online Event Online Event Boston MA 02120 United States;X-APPLE-RADIUS=500;X-TITLE=Online Event:geo:-71.0836938,42.3373143
END:VEVENT
BEGIN:VEVENT
DTSTART;TZID=America/New_York:20250128T190000
DTEND;TZID=America/New_York:20250128T201500
DTSTAMP:20260422T102857
CREATED:20250124T230608Z
LAST-MODIFIED:20250124T230649Z
UID:28403-1738090800-1738095300@uniteboston.com
SUMMARY:Boston in the Shadow of Slavery
DESCRIPTION:Join RIC and ECM on Tuesday\, January 28th\, at 7 PM via Zoom for Boston in the Shadow of Slavery\, featuring Professor Jacqueline Jones\, discussing her Pulitzer Prize-winning book\, No Right to an Honest Living\, which explores Black labor and white hypocrisy in 19th-century Boston. \nClick Here to Register \nThe Reparations Interfaith Coalition (RIC) is a Massachusetts-based alliance of ethical and faith communities pursuing reparative justice for Black and Indigenous peoples in solidarity with national efforts. Founded by members of Episcopal City Mission\, Boston Workers Circle\, and the Jewish Community of Amherst\, RIC works alongside Black leaders in the reparations movement. \nFor a chapter of the Book click here. \n\n\n\n\n\n\n\n\n\n\n\n\n\n\n\n\n\n\n\n\n\n\n\n\n\n\n\n\n\n\n\n\n\n\n\n\n\n\nIf you have any questions or need further assistance\, please reach out to us at admin@ecmteam.us. We look forward to gathering together next week.
URL:https://uniteboston.com/event/boston-in-the-shadow-of-slavery/
LOCATION:Online Event\, Online Event\, Boston\, MA\, 02120\, United States
CATEGORIES:Featured,Justice,Training
ATTACH;FMTTYPE=image/png:https://uniteboston.com/wp-content/uploads/2025/01/unnamed-29.png
ORGANIZER;CN="Episcopal City Mission":MAILTO:admin@ecmteam.us
GEO:42.3373143;-71.0836938
X-APPLE-STRUCTURED-LOCATION;VALUE=URI;X-ADDRESS=Online Event Online Event Boston MA 02120 United States;X-APPLE-RADIUS=500;X-TITLE=Online Event:geo:-71.0836938,42.3373143
END:VEVENT
BEGIN:VEVENT
DTSTART;TZID=America/New_York:20250202T120000
DTEND;TZID=America/New_York:20250202T140000
DTSTAMP:20260422T102857
CREATED:20250203T162330Z
LAST-MODIFIED:20250203T162330Z
UID:28572-1738497600-1738504800@uniteboston.com
SUMMARY:Worship Service in German
DESCRIPTION:Join us for our monthly worship service in German!
URL:https://uniteboston.com/event/worship-service-in-german/
LOCATION:77 Columbia Street\, 77 Columbia Street\, Cambridge\, 02139\, United States
ATTACH;FMTTYPE=image/png:https://uniteboston.com/wp-content/uploads/2025/02/German-Service-2-2-25.png
ORGANIZER;CN="Faith Lutheran Church":MAILTO:info@faithcambridge.org
GEO:42.3653851;-71.0990197
X-APPLE-STRUCTURED-LOCATION;VALUE=URI;X-ADDRESS=77 Columbia Street 77 Columbia Street Cambridge 02139 United States;X-APPLE-RADIUS=500;X-TITLE=77 Columbia Street:geo:-71.0990197,42.3653851
END:VEVENT
END:VCALENDAR