BEGIN:VCALENDAR
VERSION:2.0
PRODID:-//UniteBoston - ECPv6.15.20//NONSGML v1.0//EN
CALSCALE:GREGORIAN
METHOD:PUBLISH
X-ORIGINAL-URL:https://uniteboston.com
X-WR-CALDESC:Events for UniteBoston
REFRESH-INTERVAL;VALUE=DURATION:PT1H
X-Robots-Tag:noindex
X-PUBLISHED-TTL:PT1H
BEGIN:VTIMEZONE
TZID:America/New_York
BEGIN:DAYLIGHT
TZOFFSETFROM:-0500
TZOFFSETTO:-0400
TZNAME:EDT
DTSTART:20240310T070000
END:DAYLIGHT
BEGIN:STANDARD
TZOFFSETFROM:-0400
TZOFFSETTO:-0500
TZNAME:EST
DTSTART:20241103T060000
END:STANDARD
BEGIN:DAYLIGHT
TZOFFSETFROM:-0500
TZOFFSETTO:-0400
TZNAME:EDT
DTSTART:20250309T070000
END:DAYLIGHT
BEGIN:STANDARD
TZOFFSETFROM:-0400
TZOFFSETTO:-0500
TZNAME:EST
DTSTART:20251102T060000
END:STANDARD
BEGIN:DAYLIGHT
TZOFFSETFROM:-0500
TZOFFSETTO:-0400
TZNAME:EDT
DTSTART:20260308T070000
END:DAYLIGHT
BEGIN:STANDARD
TZOFFSETFROM:-0400
TZOFFSETTO:-0500
TZNAME:EST
DTSTART:20261101T060000
END:STANDARD
BEGIN:DAYLIGHT
TZOFFSETFROM:-0500
TZOFFSETTO:-0400
TZNAME:EDT
DTSTART:20270314T070000
END:DAYLIGHT
BEGIN:STANDARD
TZOFFSETFROM:-0400
TZOFFSETTO:-0500
TZNAME:EST
DTSTART:20271107T060000
END:STANDARD
END:VTIMEZONE
BEGIN:VEVENT
DTSTART;TZID=America/New_York:20260409T190000
DTEND;TZID=America/New_York:20260409T203000
DTSTAMP:20260423T014546
CREATED:20260313T184042Z
LAST-MODIFIED:20260316T211154Z
UID:43317-1775761200-1775766600@uniteboston.com
SUMMARY:Showing Up Well: A Training for Volunteers on Genuine Engagement
DESCRIPTION:Every volunteer engagement that involves another person is a relationship. And like any relationship\, what we bring into it shapes what’s possible. \nOften volunteers’ biggest challenges aren’t logistical\, they’re invisible. The unspoken expectations we attach to our help\, the moments when our instinct to fix things gets ahead of what someone is asking for\, how our own cultural lens can shape — and sometimes distort — how we show up. \nUniteBoston is partnering with Sarah Blumenshine\, Director of Intercultural Ministries at the Emmanuel Gospel Center\, to offer a zoom training where we can all take an honest\, non-judgmental look at the mindsets that can quietly undermine the very relationships we’re hoping to build. We’re especially encouraging congregations and volunteers who have been part of our spring “Love Thy Neighbor” initiatives to join this opportunity! \nExpect honest conversation\, relatable scenarios\, and practical tools to help you engage with love and care. \nSign up here to receive the zoom link and help us spread the word!
URL:https://uniteboston.com/event/showing-up-well-a-training-for-volunteers-on-genuine-engagement/
LOCATION:Zoom
CATEGORIES:Featured
ATTACH;FMTTYPE=image/png:https://uniteboston.com/wp-content/uploads/2026/03/Show-up-well-Training.png
ORGANIZER;CN="Rev. Kelly Fassett":MAILTO:kelly@uniteboston.com
END:VEVENT
BEGIN:VEVENT
DTSTART;TZID=America/New_York:20251119T120000
DTEND;TZID=America/New_York:20251119T130000
DTSTAMP:20260423T014546
CREATED:20251103T200141Z
LAST-MODIFIED:20251103T200141Z
UID:38642-1763553600-1763557200@uniteboston.com
SUMMARY:Migrant Care & Solidarity Follow-Up Call
DESCRIPTION:Join us for a follow-up call as we continue this network of collaboration and support for our immigrant neighbors. This will be on Wednesday November 19 from 12pm to 1pm on zoom. \nWe will share updates about the Boston Immigrant Resource Dashboard\, hear the steps you have taken to support our immigrant neighbors and discuss how we can best support one another doing this work. Be sure to check out the Migrant Care & Solidarity Resources & Collaborative Opportunities document. \nTo RSVP\, please email kelly@uniteboston.com and she can add you to the Google Calendar invite.  Here is the zoom link. \nThank you for joining with us as we seek to foster a “city of belonging” and show God’s love by creating a more connected and efficient support network for immigrants\, refugees\, and asylum seekers in Boston!
URL:https://uniteboston.com/event/migrant-care-solidarity-follow-up-call/
LOCATION:Zoom
CATEGORIES:College Students,Community Outreach,Featured,Justice,Pastors,Social,Training
ATTACH;FMTTYPE=image/png:https://uniteboston.com/wp-content/uploads/2025/11/Boston-Flourish-Migration-Care-Resources-Collaboration-Opportunities.png
ORGANIZER;CN="Rev. Kelly Fassett":MAILTO:kelly@uniteboston.com
END:VEVENT
BEGIN:VEVENT
DTSTART;TZID=America/New_York:20250927T093000
DTEND;TZID=America/New_York:20250927T130000
DTSTAMP:20260423T014546
CREATED:20250823T171332Z
LAST-MODIFIED:20250823T171332Z
UID:36359-1758965400-1758978000@uniteboston.com
SUMMARY:September Green Book Tour
DESCRIPTION:September 27th\, 2025 | 9:30AM to 1PM | Cost: $60 \nTour will begin at the Union United Methodist Church \nlocated at 485 Columbus Ave\, Boston\, MA 02118. \nThis 2-hour walking tour will include lunch at Slade’s Bar and Grill which has been bringing the greater Boston communities under one roof since 1935. Slade’s was listed in the Green Book between 1935-1939 and it is known for its soul food and hip urban vibe. Reproductions of the Green Book for selected years will be available for sale at the conclusion of the event. \nClick here to register today!
URL:https://uniteboston.com/event/september-green-book-tour/
LOCATION:MA
CATEGORIES:Community Outreach,Featured,Justice,Lecture
ATTACH;FMTTYPE=image/png:https://uniteboston.com/wp-content/uploads/2025/08/unnamed-50.png
ORGANIZER;CN="Boston Faith and Justice Network":MAILTO:elizabeth@bostonfaithjustice.org, events@bostonfaithjustice.org
END:VEVENT
END:VCALENDAR