BEGIN:VCALENDAR
VERSION:2.0
PRODID:-//UniteBoston - ECPv6.15.20//NONSGML v1.0//EN
CALSCALE:GREGORIAN
METHOD:PUBLISH
X-WR-CALNAME:UniteBoston
X-ORIGINAL-URL:https://uniteboston.com
X-WR-CALDESC:Events for UniteBoston
REFRESH-INTERVAL;VALUE=DURATION:PT1H
X-Robots-Tag:noindex
X-PUBLISHED-TTL:PT1H
BEGIN:VTIMEZONE
TZID:America/New_York
BEGIN:DAYLIGHT
TZOFFSETFROM:-0500
TZOFFSETTO:-0400
TZNAME:EDT
DTSTART:20250309T070000
END:DAYLIGHT
BEGIN:STANDARD
TZOFFSETFROM:-0400
TZOFFSETTO:-0500
TZNAME:EST
DTSTART:20251102T060000
END:STANDARD
BEGIN:DAYLIGHT
TZOFFSETFROM:-0500
TZOFFSETTO:-0400
TZNAME:EDT
DTSTART:20260308T070000
END:DAYLIGHT
BEGIN:STANDARD
TZOFFSETFROM:-0400
TZOFFSETTO:-0500
TZNAME:EST
DTSTART:20261101T060000
END:STANDARD
BEGIN:DAYLIGHT
TZOFFSETFROM:-0500
TZOFFSETTO:-0400
TZNAME:EDT
DTSTART:20270314T070000
END:DAYLIGHT
BEGIN:STANDARD
TZOFFSETFROM:-0400
TZOFFSETTO:-0500
TZNAME:EST
DTSTART:20271107T060000
END:STANDARD
END:VTIMEZONE
BEGIN:VEVENT
DTSTART;TZID=America/New_York:20260502T173000
DTEND;TZID=America/New_York:20260502T203000
DTSTAMP:20260422T215517
CREATED:20260404T223312Z
LAST-MODIFIED:20260404T223312Z
UID:45124-1777743000-1777753800@uniteboston.com
SUMMARY:TESTIFY!: EGC’s Ministry Celebration & Annual Fundraiser
DESCRIPTION:Emmanuel Gospel Center (EGC) invites you to an evening of community connection\, storytelling\, and celebration! EGC’s Ministry Celebration and Annual Fundraiser is Saturday\, May 2\, at 5:30 pm at The Tirrell Room in Quincy\, MA (254 Quarry St. Quincy\, MA 02169). Join us to connect with friends old and new\, see premieres of original content from some of Boston’s most talented creatives\, enjoy delicious food\, and be encouraged by powerful stories of kingdom impact!  \nOur theme is TESTIFY! based on Psalm 66:16: “Come and hear\, all you who fear God\, and I will tell what he has done for me.” This is a free event\, and there will be an opportunity to support the work of EGC. Learn more and RSVP at egc.org/fundraiser!  \np.s. Interested in serving as a Sponsor? Check out the Sponsor Information Packet and complete the Sponsor Commitment Form here. 
URL:https://uniteboston.com/event/testify-egcs-ministry-celebration-annual-fundraiser/
LOCATION:The Tirrell Room\, 254 Quarry St\, Quincy\, MA\, 02169\, United States
CATEGORIES:Featured,Fundraiser,Worship
ATTACH;FMTTYPE=image/png:https://uniteboston.com/wp-content/uploads/2026/04/Testify-ad-for-Promo.png
GEO:42.2473418;-71.0219785
X-APPLE-STRUCTURED-LOCATION;VALUE=URI;X-ADDRESS=The Tirrell Room 254 Quarry St Quincy MA 02169 United States;X-APPLE-RADIUS=500;X-TITLE=254 Quarry St:geo:-71.0219785,42.2473418
END:VEVENT
BEGIN:VEVENT
DTSTART;TZID=America/New_York:20260606T170000
DTEND;TZID=America/New_York:20260606T193000
DTSTAMP:20260422T215517
CREATED:20260416T222806Z
LAST-MODIFIED:20260416T222806Z
UID:45731-1780765200-1780774200@uniteboston.com
SUMMARY:RCCI's Community Gathering & Fundraiser
DESCRIPTION:In the midst of the racism and polarization in our word\, the Church must rise up and be a faithful witness. We must choose to model the way of Jesus – who speaks truth\, embodies love\, and affirms the dignity of every image bearer. \nBut how are we to do this? And how are we to sustain this work in these challenging times? \nYou are invited to connect in community\, be encouraged\, and get equipped to be a faithful witness to Jesus. Come to RCCI’s Community Gathering & Fundraiser at 5pm on June 6th. \nLearn how others are resisting racism and sustaining their shalom-building work. You are not alone. Together we can grow in our faith\, expand our imaginations\, and find creative ways to continue Christ’s redemptive work across racial lines. \nPlease RSVP at https://tinyurl.com/376355mp. \nHope to see you there! \nMegan & the RCCI team
URL:https://uniteboston.com/event/rccis-community-gathering-fundraiser/
LOCATION:Second Church in Dorchester\, 44 Moultrie St\, Codman Square\, Dorchester\, MA 02124\, MA\, 02124\, United States
CATEGORIES:Featured,Fundraiser,Justice,Pastors,Worship
ATTACH;FMTTYPE=image/png:https://uniteboston.com/wp-content/uploads/2026/04/2.png
ORGANIZER;CN="Race & Christian Community Initiative - Emmanuel Gospel Center":MAILTO:mlietz@egc.org
GEO:42.2908299;-71.070911
X-APPLE-STRUCTURED-LOCATION;VALUE=URI;X-ADDRESS=Second Church in Dorchester 44 Moultrie St Codman Square Dorchester MA 02124 MA 02124 United States;X-APPLE-RADIUS=500;X-TITLE=44 Moultrie St\, Codman Square:geo:-71.070911,42.2908299
END:VEVENT
END:VCALENDAR