BEGIN:VCALENDAR
VERSION:2.0
PRODID:-//UniteBoston - ECPv6.15.20//NONSGML v1.0//EN
CALSCALE:GREGORIAN
METHOD:PUBLISH
X-ORIGINAL-URL:https://uniteboston.com
X-WR-CALDESC:Events for UniteBoston
REFRESH-INTERVAL;VALUE=DURATION:PT1H
X-Robots-Tag:noindex
X-PUBLISHED-TTL:PT1H
BEGIN:VTIMEZONE
TZID:America/New_York
BEGIN:DAYLIGHT
TZOFFSETFROM:-0500
TZOFFSETTO:-0400
TZNAME:EDT
DTSTART:20230312T070000
END:DAYLIGHT
BEGIN:STANDARD
TZOFFSETFROM:-0400
TZOFFSETTO:-0500
TZNAME:EST
DTSTART:20231105T060000
END:STANDARD
BEGIN:DAYLIGHT
TZOFFSETFROM:-0500
TZOFFSETTO:-0400
TZNAME:EDT
DTSTART:20240310T070000
END:DAYLIGHT
BEGIN:STANDARD
TZOFFSETFROM:-0400
TZOFFSETTO:-0500
TZNAME:EST
DTSTART:20241103T060000
END:STANDARD
BEGIN:DAYLIGHT
TZOFFSETFROM:-0500
TZOFFSETTO:-0400
TZNAME:EDT
DTSTART:20250309T070000
END:DAYLIGHT
BEGIN:STANDARD
TZOFFSETFROM:-0400
TZOFFSETTO:-0500
TZNAME:EST
DTSTART:20251102T060000
END:STANDARD
BEGIN:DAYLIGHT
TZOFFSETFROM:-0500
TZOFFSETTO:-0400
TZNAME:EDT
DTSTART:20260308T070000
END:DAYLIGHT
BEGIN:STANDARD
TZOFFSETFROM:-0400
TZOFFSETTO:-0500
TZNAME:EST
DTSTART:20261101T060000
END:STANDARD
END:VTIMEZONE
BEGIN:VEVENT
DTSTART;TZID=America/New_York:20251004T084500
DTEND;TZID=America/New_York:20251004T153000
DTSTAMP:20260422T091329
CREATED:20250924T202211Z
LAST-MODIFIED:20250927T190046Z
UID:37602-1759567500-1759591800@uniteboston.com
SUMMARY:Poverty 101 Workshop
DESCRIPTION:Join us for an engaging\, interactive\, and insightful workshop equipping participants to better love \nand serve through relational poverty alleviation. It will provide tools that will help each of us find the \nbest ways to engage with the people God puts in our path. \nIn this fun\, engaging and sometimes uncomfortable workshop\, we will: \n1. Learn to distinguish material and relational poverty.\n2. Increase our self understanding of class\, our assets and how they impact our view of self and others.\n3.  Review a biblical basis for mutual brokenness.\n4.  Evaluate the difference between helpful and toxic charity. \nOctober 4\, 8:45-3:30 in the loft at Highrock Church\, 14 Mill Street\, Arlington. \nThere is no charge for this event which includes breakfast and lunch catered by Neighbor2Neighbor Ministries entrepreneurial partners. \nContact Joe Marcucci for more information:  joem@neighbor2neighborma.org \nRegister Here:  https://www.aplos.com/aws/events/poverty_101_workshop
URL:https://uniteboston.com/event/poverty-101/
LOCATION:Highrock Church Arlington\, 14 Mills Street\, Arlington\, 02476\, United States
CATEGORIES:Community Outreach,Featured
ATTACH;FMTTYPE=image/jpeg:https://uniteboston.com/wp-content/uploads/2025/09/Poverty-101-1920-x-1080-Highrock-Arlington-1.jpg
ORGANIZER;CN="Neighbor2Neighbor Ministries Inc.":MAILTO:joem@neighbor2neighborma.org
GEO:42.4173268;-71.1581733
X-APPLE-STRUCTURED-LOCATION;VALUE=URI;X-ADDRESS=Highrock Church Arlington 14 Mills Street Arlington 02476 United States;X-APPLE-RADIUS=500;X-TITLE=14 Mills Street:geo:-71.1581733,42.4173268
END:VEVENT
BEGIN:VEVENT
DTSTART;TZID=America/New_York:20250816T120000
DTEND;TZID=America/New_York:20250816T150000
DTSTAMP:20260422T091329
CREATED:20250725T141400Z
LAST-MODIFIED:20250725T141545Z
UID:35102-1755345600-1755356400@uniteboston.com
SUMMARY:Friendship Day
DESCRIPTION:A community event for people experiencing poverty in Lynn\, MA. Enjoy free food\, coffee\, yard games\, face painting and more. \nWe need your help in two ways. \n\nCollection of non-perishable food items (email: amontoya@sendrelief.net)\nFinancial support (please visit boston.sendrelief.org)
URL:https://uniteboston.com/event/friendship-day-2/
LOCATION:Callahan Elementary\, 200 O'Callaghan Way\, Lynn\, 01905\, United States
CATEGORIES:Community Outreach,Featured
ATTACH;FMTTYPE=image/png:https://uniteboston.com/wp-content/uploads/2025/07/medium_image-1752170577463.png
ORGANIZER;CN="Send Relief Boston":MAILTO:Boston@sendrelief.org
GEO:42.4673334;-70.9844427
X-APPLE-STRUCTURED-LOCATION;VALUE=URI;X-ADDRESS=Callahan Elementary 200 O'Callaghan Way Lynn 01905 United States;X-APPLE-RADIUS=500;X-TITLE=200 O'Callaghan Way:geo:-70.9844427,42.4673334
END:VEVENT
BEGIN:VEVENT
DTSTART;TZID=America/New_York:20250529T170000
DTEND;TZID=America/New_York:20250529T183000
DTSTAMP:20260422T091329
CREATED:20250502T015906Z
LAST-MODIFIED:20250514T202643Z
UID:31871-1748538000-1748543400@uniteboston.com
SUMMARY:Book Talk: You Only Get What You're Organized to Take: Lessons From the Movement to End Poverty
DESCRIPTION:Hello UniteBoston friends and colleagues\, \n\nDevlin and I are excited to invite you to a special gathering of leaders as part of the National Book Tour Stop in Massachusetts for the new release:\nYou Only Get What You’re Organized to Take: Lessons from the Movement to End Poverty\nby Rev. Dr. Liz Theoharis and Noam Sandweiss-Back of the Kairos Center  \nClick here to watch the promo video\n Learn more about the book \nThis is more than a book tour—it’s an interfaith movement that aims to strengthen community-led movements for housing\, food\, wages\, water\, land\, immigrant rights\, peace\, belonging\, and more. \nJesus said that he came to set the oppressed free (Lk 4:18) – As Christian leaders\, we are called to be part of this moral and spiritual awakening—to organize from the ground up\, led by those most impacted\, and loving the ‘least of these’ (Mt 25:40) as rooted in the prophetic call for economic justice and human dignity. \nWe believe this is a kairos moment—a Spirit-led opportunity to build relationships\, deepen shared commitments\, and explore how the Christian community\, alongside our interfaith partners\, can actively support and lead in this movement for justice and survival. \n\nEvent Details – Two Opportunities to Join Us\n Faith Partners Lunch + Strategy Session\nThursday\, May 29 | 1:00 PM – 2:30 PM\nThe Cathedral Church of St. Paul\, 138 Tremont St\, Boston\, MA\nRSVP Here for Lunch Session \nBook Talk & Public Dialogue\nThursday\, May 29 | 5:00 PM – 6:30 PM\nThe Cathedral Church of St. Paul\, Boston \nRSVP Here for Public Session \n\nThis gathering is hosted by a coalition of faith and justice leaders\, including UniteBoston\, the Massachusetts Poor People’s Campaign\, Massachusetts Union of the Homeless\, MAPPC Episcopal Network\, Mass Peace Movements\, Rep. Mike Connolly\, Nonviolent Medicaid Army\, and more. \nAs Rev. Theoharis reminds us\, this work is not optional—it’s a matter of survival for so many of our brothers and sisters. We invite you to join us in dreaming\, discerning\, and building together toward a future where all God’s children can thrive. \nIn hope and solidarity\, \n-Rev. Kelly & Rev. Devlin
URL:https://uniteboston.com/event/book-talk-you-only-get-what-youre-organized-to-take-lessons-from-the-movement-to-end-poverty/
LOCATION:Cathedral of St. Paul\, 138 Tremont St.\, Boston\, 02108\, United States
CATEGORIES:Featured,Justice
ATTACH;FMTTYPE=image/png:https://uniteboston.com/wp-content/uploads/2025/05/Book-Talks-Postcard-with-QR-codes.png
GEO:42.3557039;-71.062173
X-APPLE-STRUCTURED-LOCATION;VALUE=URI;X-ADDRESS=Cathedral of St. Paul 138 Tremont St. Boston 02108 United States;X-APPLE-RADIUS=500;X-TITLE=138 Tremont St.:geo:-71.062173,42.3557039
END:VEVENT
BEGIN:VEVENT
DTSTART;VALUE=DATE:20241209
DTEND;VALUE=DATE:20241210
DTSTAMP:20260422T091329
CREATED:20241016T183349Z
LAST-MODIFIED:20241021T143720Z
UID:25920-1733702400-1733788799@uniteboston.com
SUMMARY:Christians For Impact Free Career Mentorship
DESCRIPTION:Are you: \n\nin university or recently graduated\, discerning your career path?\nin the early stage of your career\, or looking to make a career switch to something more meaningful and impactful?\nambitious\, impact-driven and analytically minded?\nkeen to use your career for the good of the world and the glory of God?\n\nIf any of these sound like you\, we invite you to apply to our FREE 1-on-1 Impact Mentorship program designed to help young\, ambitious Christians pursue careers with maximum social impact. You’ll get matched to a Christian mentor from top universities like Harvard and MIT in the field you’re interested in and have a video call lasting around 60-min. You’ll receive Biblical guidance\, prayer\, and career opportunities. Apply here. \nAlso\, check out our 10-minute career guide on how to maximize the impact of your career and sign up to our monthly newsletter\, where we’ll send you our most impactful career resources\, job opportunities\, and events. \nFor any questions\, email JD Bauman at jd@christiansforimpact.org.
URL:https://uniteboston.com/event/christians-for-impact-free-career-mentorship/
LOCATION:United States
CATEGORIES:College Students,Featured,Job Posting,Justice
ATTACH;FMTTYPE=image/png:https://uniteboston.com/wp-content/uploads/2024/10/CFI-graphic.png
ORGANIZER;CN="Christians for Impact":MAILTO:christiansforimpact@gmail.com
END:VEVENT
END:VCALENDAR