BEGIN:VCALENDAR
VERSION:2.0
PRODID:-//UniteBoston - ECPv6.15.20//NONSGML v1.0//EN
CALSCALE:GREGORIAN
METHOD:PUBLISH
X-WR-CALNAME:UniteBoston
X-ORIGINAL-URL:https://uniteboston.com
X-WR-CALDESC:Events for UniteBoston
REFRESH-INTERVAL;VALUE=DURATION:PT1H
X-Robots-Tag:noindex
X-PUBLISHED-TTL:PT1H
BEGIN:VTIMEZONE
TZID:America/New_York
BEGIN:DAYLIGHT
TZOFFSETFROM:-0500
TZOFFSETTO:-0400
TZNAME:EDT
DTSTART:20250309T070000
END:DAYLIGHT
BEGIN:STANDARD
TZOFFSETFROM:-0400
TZOFFSETTO:-0500
TZNAME:EST
DTSTART:20251102T060000
END:STANDARD
BEGIN:DAYLIGHT
TZOFFSETFROM:-0500
TZOFFSETTO:-0400
TZNAME:EDT
DTSTART:20260308T070000
END:DAYLIGHT
BEGIN:STANDARD
TZOFFSETFROM:-0400
TZOFFSETTO:-0500
TZNAME:EST
DTSTART:20261101T060000
END:STANDARD
BEGIN:DAYLIGHT
TZOFFSETFROM:-0500
TZOFFSETTO:-0400
TZNAME:EDT
DTSTART:20270314T070000
END:DAYLIGHT
BEGIN:STANDARD
TZOFFSETFROM:-0400
TZOFFSETTO:-0500
TZNAME:EST
DTSTART:20271107T060000
END:STANDARD
END:VTIMEZONE
BEGIN:VEVENT
DTSTART;TZID=America/New_York:20260112T180000
DTEND;TZID=America/New_York:20260504T210000
DTSTAMP:20260422T152220
CREATED:20251006T230708Z
LAST-MODIFIED:20251006T230708Z
UID:37969-1768240800-1777928400@uniteboston.com
SUMMARY:Perspectives on the World Christian Movement
DESCRIPTION:Perspectives is an awe-inspiring comprehensive course that has profoundly impacted hundreds of thousands of students during the past 45+ years. From Genesis to the prophets\, Jesus to the early Church\, and St. Augustine to the present\, students learn how God moves\, how the global Church responds\, and the remaining task of world evangelization. \nPerspectives isn’t a course solely about world missions. It’s a study program rooted in Scripture clarifying each believer’s remarkable opportunity to co-labor with God in His global purpose.
URL:https://uniteboston.com/event/perspectives-on-the-world-christian-movement-2/2026-01-12/
LOCATION:YWAM Boston\, 374 Broadway Street\, Somerville\, MA\, 02145\, United States
CATEGORIES:College Students,Community Outreach,Pastors,Prayer,Training
ATTACH;FMTTYPE=image/png:https://uniteboston.com/wp-content/uploads/2025/10/P26-Instagram.png
ORGANIZER;CN="Perspectives USA":MAILTO:bmperspectives@gmail.com
GEO:42.39408;-71.096985
X-APPLE-STRUCTURED-LOCATION;VALUE=URI;X-ADDRESS=YWAM Boston 374 Broadway Street Somerville MA 02145 United States;X-APPLE-RADIUS=500;X-TITLE=374 Broadway Street:geo:-71.096985,42.39408
END:VEVENT
BEGIN:VEVENT
DTSTART;TZID=America/New_York:20260309T190000
DTEND;TZID=America/New_York:20260427T220000
DTSTAMP:20260422T152220
CREATED:20260219T220220Z
LAST-MODIFIED:20260323T142552Z
UID:42405-1773082800-1777327200@uniteboston.com
SUMMARY:Prophetic Leadership Principles
DESCRIPTION:Greater Boston\, this is a season for depth.\n\nSPL1000: Prophetic Principles is the gateway course of the School of Prophetic Leadership — designed for believers who sense a call to hear clearly\, discern biblically\, and lead with integrity. In a time when voices are loud and clarity is rare\, this course grounds you in Scripture\, spiritual formation\, and tested prophetic foundations.\n\nThis is not hype. This is formation.\n\nOver this journey\, you’ll explore how revelation\, interpretation\, and application work together. You’ll grow in discernment before declaration\, character before commissioning\, and structure before expansion. Whether you serve in church\, marketplace\, intercession\, or culture\, SPL1000 strengthens your spiritual depth and leadership maturity.\n\nIf you’re called to speak\, lead\, or build — but want to be rooted first — this is your next step.\n\nRegistration is open. Join us and build on foundations that last.
URL:https://uniteboston.com/event/prophetic-leadership-principles/2026-03-09/
LOCATION:Online Event\, Online Event\, Boston\, MA\, 02120\, United States
CATEGORIES:Pastors,Prayer,Training,Worship
ATTACH;FMTTYPE=image/png:https://uniteboston.com/wp-content/uploads/2026/02/SPL1000-Portrait-v2.png
ORGANIZER;CN="PureSpring Institute":MAILTO:info@purespringinstitute.org
GEO:42.3373143;-71.0836938
X-APPLE-STRUCTURED-LOCATION;VALUE=URI;X-ADDRESS=Online Event Online Event Boston MA 02120 United States;X-APPLE-RADIUS=500;X-TITLE=Online Event:geo:-71.0836938,42.3373143
END:VEVENT
BEGIN:VEVENT
DTSTART;TZID=America/New_York:20260322T163000
DTEND;TZID=America/New_York:20260426T170000
DTSTAMP:20260422T152220
CREATED:20260218T201725Z
LAST-MODIFIED:20260323T142524Z
UID:42289-1774197000-1777222800@uniteboston.com
SUMMARY:Radical Hospitality: The Way of Jesus
DESCRIPTION:Do you want to be welcoming of others without neglecting yourself? \nDo you want to learn communication skills for transforming conflict? \nDo you want to be a healing presence in the world? \nJoin us for one or all of these transformative Nonviolent Communication trainings \nSix Sundays of Lent: February 22\, March 1\, 8\, 15\, 22\, and 29 \nNorth Street Community Church\, 235 North Street\, Hingham\, MA \nCo-sponsored by Bethel Church of the Nazarene of Quincy and Heart-to-Heart \nAll are welcome. Sign up is free. \nNow\, perhaps more than ever\, our culture needs people who are radically welcoming of others and themselves. Join us as we integrate the gospel call to love our neighbors as ourselves and Nonviolent Communication. This Lenten journey is designed to support people of faith and conscience in living the radical hospitality of Jesus\, so needed in these times. Together\, we will learn and practice radical hospitality\, a rooted receptivity to all that is alive in ourselves and in others. \nThe six-week journey offers a chance to learn and grow in skills essential for all our relationships. We will draw on the powerful skills of Nonviolent Communication\, developed by Dr. Marshall Rosenberg. \nAre you interested in becoming a Heart-to-Heart trainer or assistant? Are you interested in helping us bring our life-changing work to people in or out of prisons? Then taking this series would be a great introduction. \nEach week we will develop our capacity to live the radical hospitality embodied by Jesus \nFeb 22 Awareness \nMar 1 Passion \nMar 8 Needs Consciousness \nMar 15 Compassion \nMar 22 Incarnation \nMar 29 A meal-sharing and integration \nDonation: This community-building and learning journey is given freely\, with an invitation to give back to the nonprofit Heart-to-Heart. Heart-to-Heart helps people affected by incarceration to heal\, thrive\, and become the leaders they are called to be. We teach life-changing relationship skills in and out of correctional facilities. Our goal in this series is to equip people with the skills and consciousness needed to be healing agents in our society\, fostering systems of restorative\, not punitive justice\, with hospitality for our returning citizens and all who need welcome. \nRegistration is free. By registering\, we can prepare and send each week’s learning materials to you by email. \nFor more information and to register\, go to: https://lp.constantcontactpages.com/cu/41ml3N0/RadHospLent2026
URL:https://uniteboston.com/event/radical-hospitality-the-way-of-jesus/2026-03-22/
LOCATION:NorthStreet Community Church of the Nazarene\, 235 North Street\, Hingham\, MA\, 02043\, United States
CATEGORIES:Children/Families,College Students,Community Outreach,Justice,Training
ATTACH;FMTTYPE=image/png:https://uniteboston.com/wp-content/uploads/2026/02/hands-reaching-golden.png
ORGANIZER;CN="Steve Tumolo":MAILTO:smtumolo@heart2heartinc.org
GEO:42.2420959;-70.8971379
X-APPLE-STRUCTURED-LOCATION;VALUE=URI;X-ADDRESS=NorthStreet Community Church of the Nazarene 235 North Street Hingham MA 02043 United States;X-APPLE-RADIUS=500;X-TITLE=235 North Street:geo:-70.8971379,42.2420959
END:VEVENT
BEGIN:VEVENT
DTSTART;TZID=America/New_York:20260425T091500
DTEND;TZID=America/New_York:20260425T173000
DTSTAMP:20260422T152220
CREATED:20260227T231551Z
LAST-MODIFIED:20260227T235539Z
UID:42908-1777108500-1777138200@uniteboston.com
SUMMARY:FaithWorks Conference 2026: An Urgency for Holiness: From Repentance to Deliverance
DESCRIPTION:Join us for FaithWorks Conference 2026! The theme this year is An Urgency for Holiness: From Repentance to Deliverance. \n\n\n\n\nWe are thrilled to invite you to an extraordinary opportunity to attend the annual FaithWorks Conference! Faithworks is dedicated to inspiring and equipping Christian professionals to glorify God and excel in their industries. \nThus also faith by itself\, if it does not have works\, is dead. \nJames 2:17 \nThis premier event encourages Christian professionals in the Greater Boston Area and beyond to deepen their faith in Christ within their respective industries. Our focus spans various sectors: Entrepreneurship\, Marketing\, Finance\, Technology\, Arts and Entertainment\, Healthcare\, Life Sciences\, Education\, and Business. \nThese sectors drive our economy\, but as Christians\, we know the ultimate glory belongs to God. \nNow faith is the substance of things hoped for\, the evidence of things not seen. \nHebrews 11:1 \nFaithWorks aims to deliver impactful programming that strengthens connections within the Christian professional community in Greater Boston and beyond. Our attendees will benefit from unique opportunities to network and engage with an untapped network of Christian professionals and entrepreneurs. Our next conference is on Saturday\, April 25\, 2026\, which will be a catalyst for a network of powerful industry experts.
URL:https://uniteboston.com/event/faithworks-conference-2026-an-urgency-for-holiness-from-repentance-to-deliverence/
LOCATION:The Foundry\, 101 Rogers Street\, Cambridge\, MA\, 02142\, United States
CATEGORIES:College Students,Community Outreach,Featured,Lecture,Pastors,Training,Worship
ATTACH;FMTTYPE=image/jpeg:https://uniteboston.com/wp-content/uploads/2026/02/Eventbrite-Banners-2026-1.jpg
ORGANIZER;CN="FaithWorks":MAILTO:camille@camilleardant.com
GEO:42.3666874;-71.0827421
X-APPLE-STRUCTURED-LOCATION;VALUE=URI;X-ADDRESS=The Foundry 101 Rogers Street Cambridge MA 02142 United States;X-APPLE-RADIUS=500;X-TITLE=101 Rogers Street:geo:-71.0827421,42.3666874
END:VEVENT
BEGIN:VEVENT
DTSTART;TZID=America/New_York:20260501T140000
DTEND;TZID=America/New_York:20260502T170000
DTSTAMP:20260422T152220
CREATED:20260410T131718Z
LAST-MODIFIED:20260410T131746Z
UID:45466-1777644000-1777741200@uniteboston.com
SUMMARY:TABCOM Annual Gathering
DESCRIPTION:The TABCOM Annual Gathering will be held May 1–2\, 2026\, at the First Baptist Church of Worcester\, 111 Park Ave\, Worcester\, MA 01609. \nThis year’s theme is “Building Bridges.” \nGrounded in Ephesians 2:19–22\, the 2026 TABCOM Annual Gathering invites us to reflect on our shared identity as members of God’s household. We are reminded that we are no longer strangers\, but one body in Christ—built together with Christ as our cornerstone. \nIn a time when divisions can feel strong\, this gathering calls us to unity\, reconciliation\, and deeper connection across cultures\, generations\, and communities. Together\, we will explore what it means to truly live as a people who build bridges—within our churches and beyond. \nWe are honored to welcome UniteBoston’s own Rev. Kelly Fassett as our plenary speaker\, Rev. Dr. J. Anthony Lloyd as this year’s keynote preacher\, and Rev. Dr. Mary Day Hamel who will be our Friday night preacher. \nHosted by the First Baptist Church in Worcester\, the Annual Gathering will include inspiring worship\, meaningful teaching\, and opportunities for fellowship and connection. \nWe will also celebrate church anniversaries\, recognize ordination milestones\, and give thanks for the shared ministry we hold together as American Baptists in Massachusetts. \nCome and be part of what God is building—one house\, many nations\, united in Christ. \nRegister Here
URL:https://uniteboston.com/event/tabcom-annual-gathering/
LOCATION:First Baptist Church in Worcester\, 111 Park Ave\, Worcester\, MA 01609\, Worcester\, 01609\, United States
CATEGORIES:College Students,Featured,Justice,Lecture,Pastors,Prayer,Singles,Social,Training,Worship
ATTACH;FMTTYPE=image/png:https://uniteboston.com/wp-content/uploads/2026/04/TAG2026-1.png
ORGANIZER;CN="TABCOM":MAILTO:miller@tabcom.org
GEO:42.2767255;-71.8094625
X-APPLE-STRUCTURED-LOCATION;VALUE=URI;X-ADDRESS=First Baptist Church in Worcester 111 Park Ave Worcester MA 01609 Worcester 01609 United States;X-APPLE-RADIUS=500;X-TITLE=111 Park Ave\, Worcester\, MA 01609:geo:-71.8094625,42.2767255
END:VEVENT
BEGIN:VEVENT
DTSTART;TZID=America/New_York:20260502T090000
DTEND;TZID=America/New_York:20260502T110000
DTSTAMP:20260422T152220
CREATED:20260409T233822Z
LAST-MODIFIED:20260409T233822Z
UID:45444-1777712400-1777719600@uniteboston.com
SUMMARY:Navigators Disciplemakers Network
DESCRIPTION:Jesus said to go and make disciples of all the nations. \nThe Boston Navigators are building a network of believers who desire to grow in knowledge and skill as disciplemakers. \nWe meet quarterly in different locations to offer practical content\, real life stories\, and the opportunity to build friendships and partnerships in ministry. This quarter we will explore how to Embody the Gospel at Work as we seek to make disciples of Jesus on the job. As usual\, there will be biblically rooted discussion\, stories\, and prayer as we encourage one another in the Great Commission. \nThe cost is free but we ask that you register. Breakfast snacks and coffee will be provided. Click here to register
URL:https://uniteboston.com/event/navigators-disciplemakers-network/
LOCATION:Tremont Temple Baptist Church\, 88 Tremont Street\, Boston\, MA\, 02108\, United States
CATEGORIES:College Students,Community Outreach,Featured,Pastors,Social,Training
ATTACH;FMTTYPE=image/png:https://uniteboston.com/wp-content/uploads/2026/04/Disciplemakers-Network.png
GEO:42.3574919;-71.0606681
X-APPLE-STRUCTURED-LOCATION;VALUE=URI;X-ADDRESS=Tremont Temple Baptist Church 88 Tremont Street Boston MA 02108 United States;X-APPLE-RADIUS=500;X-TITLE=88 Tremont Street:geo:-71.0606681,42.3574919
END:VEVENT
BEGIN:VEVENT
DTSTART;TZID=America/New_York:20260502T100000
DTEND;TZID=America/New_York:20260502T123000
DTSTAMP:20260422T152220
CREATED:20250602T215849Z
LAST-MODIFIED:20250714T191626Z
UID:32970-1777716000-1777725000@uniteboston.com
SUMMARY:Transformational Listening: Soul Care Companions (TL1)
DESCRIPTION:“I don’t want to walk away from God or my faith\, but I don’t quite know how to walk with other Christians anymore…” \nPerhaps you’ve said this yourself\, had others confide something similar to you\, or read in between the lines on social media posts. Whatever the case may be\, this is something we hear & not just in the younger generations! When someone shares this with us\, we don’t actually get discouraged\, but hopeful. Hopeful\, because we recognize the longing in them for a vulnerable relationship with God & one another that opens the door for true community. We believe one of the ways forward is through listening. But not just any listening\, true contemplative & transformational listening that builds change & community. 10 years ago\, we created our Transformational Listening: Soul Care Companions course with this in mind. Today it holds up to the test of time. Listening to God & one another makes a lasting difference. We can be contemplatives in action creating change in our inner lives with Christ & in our communities as we love one another. We have offered this course to church groups\, organizations\, & strangers that become lifelong friends. And now\, we are offering it again to you. Will you join us?
URL:https://uniteboston.com/event/transformational-listening-soul-care-companions-tl1/2026-05-02/
LOCATION:Virtual\, United States
CATEGORIES:Training
ATTACH;FMTTYPE=image/png:https://uniteboston.com/wp-content/uploads/2025/06/Join-Us-in-TL1.png
ORGANIZER;CN="PAX Center for Spiritual Formation":MAILTO:contactpaxcenter@gmail.com
GEO:37.09024;-95.712891
END:VEVENT
BEGIN:VEVENT
DTSTART;TZID=America/New_York:20260503T123000
DTEND;TZID=America/New_York:20260503T143000
DTSTAMP:20260422T152220
CREATED:20260408T001707Z
LAST-MODIFIED:20260408T001707Z
UID:45353-1777811400-1777818600@uniteboston.com
SUMMARY:"Let's Talk" with the Framingham PD
DESCRIPTION:Let’s have a candid conversation on Crime and the Community\, as well as knowing your rights especially in this season of ICE regulations.
URL:https://uniteboston.com/event/lets-talk-with-the-framingham-pd/
LOCATION:Greater Framingham Community Church\, 44 Franklin St\, Framingham\, MA\, 01702\, United States
CATEGORIES:Community Outreach,Justice,Lecture,Training
ATTACH;FMTTYPE=image/jpeg:https://uniteboston.com/wp-content/uploads/2026/04/Police-Chief-Flyer-5_3-scaled.jpg
ORGANIZER;CN="Greater Framingham Community Church":MAILTO:administrator@gfccnet.org
GEO:42.2782452;-71.4181353
X-APPLE-STRUCTURED-LOCATION;VALUE=URI;X-ADDRESS=Greater Framingham Community Church 44 Franklin St Framingham MA 01702 United States;X-APPLE-RADIUS=500;X-TITLE=44 Franklin St:geo:-71.4181353,42.2782452
END:VEVENT
BEGIN:VEVENT
DTSTART;TZID=America/New_York:20260504T100000
DTEND;TZID=America/New_York:20260504T150000
DTSTAMP:20260422T152220
CREATED:20260408T010622Z
LAST-MODIFIED:20260417T204632Z
UID:45381-1777888800-1777906800@uniteboston.com
SUMMARY:Rooted in Justice: Youth Ministry Cohort Intensive
DESCRIPTION:Date: May 4\, 2026Time: 10:00 AM – 3:00 PMLocation: Second Church in Dorchester | 44 Moultrie St. Dorchester\, MA 02124 \nAbout the Event \nUniteBoston is partnering with Arrabon for Rooted in Justice\, a one-day workshop intensive designed for those who walk closely with teenagers ages 13–17. This training is for youth pastors\, ministry leaders\, mentors\, parents\, and caregivers who are navigating the complexities of forming faith in a world shaped by trauma\, division\, and deep questions about justice\, belonging\, and hope. \nThis immersive day invites participants into a space of formation\, not just information. Through trauma-informed learning\, shared practices\, and honest dialogue with others across diverse contexts\, you’ll grow in active listening\, empathy\, courage\, and a vision for justice-shaped discipleship that meets young people where they truly are. \nParticipants will receive access to the Cultivating Kinship curriculum\, a six-week spiritual formation resource equipping Christ-followers to engage hard conversations with compassionate curiosity\, embodied faith\, and hope. This intensive also serves as an entry point into the larger Rooted in Justice cohort journey\, including opportunities for continued formation and a potential immersion experience in Montgomery\, Alabama. \nCome ready to be equipped\, challenged\, and rooted more deeply in walking with the next generation to follow Jesus. \nWe’re able to offer this event for FREE – please REGISTER HERE and help to spread the word!
URL:https://uniteboston.com/event/rooted-in-justice-youth-ministry-cohort-intensive/
LOCATION:Second Church in Dorchester\, 44 Moultrie St\, Codman Square\, Dorchester\, MA 02124\, MA\, 02124\, United States
CATEGORIES:Featured,Lecture,Pastors,Training
ATTACH;FMTTYPE=image/png:https://uniteboston.com/wp-content/uploads/2026/04/Youth-Ministry-Intensive.png
ORGANIZER;CN="UniteBoston":MAILTO:info@uniteboston.com
GEO:42.2908299;-71.070911
X-APPLE-STRUCTURED-LOCATION;VALUE=URI;X-ADDRESS=Second Church in Dorchester 44 Moultrie St Codman Square Dorchester MA 02124 MA 02124 United States;X-APPLE-RADIUS=500;X-TITLE=44 Moultrie St\, Codman Square:geo:-71.070911,42.2908299
END:VEVENT
BEGIN:VEVENT
DTSTART;TZID=America/New_York:20260508T083000
DTEND;TZID=America/New_York:20260508T123000
DTSTAMP:20260422T152220
CREATED:20260410T214944Z
LAST-MODIFIED:20260410T214944Z
UID:45489-1778229000-1778243400@uniteboston.com
SUMMARY:Solving The World's Greatest Problems
DESCRIPTION:Join us on Friday\, May 8 for an 8:30-12:30 dive into Solving the World’s Greatest Problems.  We’re looking to gather 40-50 Christian leaders from across the Boston area to watch a 2 ½ hour videocast of a recent well-regarded event on this topic that included several known Christian leaders (for example\, Tim Tebow).   We’ll then dive into table discussions about what we can do together to actually solve some of the biggest problems that New England faces.  Ideally we’ll come out of this with a rough framework for an action plan with some next steps.  We’ll be meeting at Grace Chapel in Lexington.  Cost is $39\, lunch is included. \nFor more info and to register\, click here
URL:https://uniteboston.com/event/solving-the-worlds-greatest-problems/
LOCATION:Grace Chapel Lexington\, 59 Worthen Rd\,  Lexington\, MA\, 02421\, United States
CATEGORIES:Children/Families,College Students,Community Outreach,Featured,Justice,Lecture,Pastors,Singles,Social,Training
ATTACH;FMTTYPE=image/jpeg:https://uniteboston.com/wp-content/uploads/2026/04/SWGP-Image-scaled.jpg
ORGANIZER;CN="C12":MAILTO:kyle.keldsen@c12forums.com
GEO:42.451033;-71.236866
X-APPLE-STRUCTURED-LOCATION;VALUE=URI;X-ADDRESS=Grace Chapel Lexington 59 Worthen Rd  Lexington MA 02421 United States;X-APPLE-RADIUS=500;X-TITLE=59 Worthen Rd:geo:-71.236866,42.451033
END:VEVENT
BEGIN:VEVENT
DTSTART;VALUE=DATE:20260605
DTEND;VALUE=DATE:20260607
DTSTAMP:20260422T152220
CREATED:20260306T183004Z
LAST-MODIFIED:20260306T183049Z
UID:43062-1780617600-1780790399@uniteboston.com
SUMMARY:Campus Leader Retreat: Shepherding with Resilience
DESCRIPTION:Are you worn out from a demanding year of ministry and longing for a space to retreat? Gordon-Conwell Theological Seminary invites you to Shepherding with Resilience\, a two-day event designed for campus ministry staff\, adult ministry leaders\, and student leaders. The retreat on our Hamilton\, MA campus offers a thoughtful blend of fellowship and rest\, as well as practical development. At the retreat\, you will: \n\n\nLearn from trusted faculty and explore themes such as conflict and restlessness in life and ministry.\nEngage in conversations with peers who understand your ministry landscape.\nEnjoy a time of leisure on our beautiful North Shore campus.\n\n\nJoin us for this opportunity to step away\, reflect\, and strengthen your resilience in ministry. Registration closes May 1 and is limited to thirty leaders in total\, and guest housing is limited to fifteen. Email admissions@gordonconwell.edu with any housing or program questions. \nThe cost is $75 for overnight guests and $40 for day guests\, which includes meals.
URL:https://uniteboston.com/event/campus-leader-retreat-shepherding-with-resilience/
LOCATION:Gordon Conwell Theological Seminary\, 130 Essex Street\, South Hamilton\, MA\, 01982\, United States
CATEGORIES:Pastors,Prayer,Social,Training
ATTACH;FMTTYPE=image/png:https://uniteboston.com/wp-content/uploads/2026/03/EventbriteFB-event-coverHilltop-40.png
GEO:42.6059581;-70.8413379
X-APPLE-STRUCTURED-LOCATION;VALUE=URI;X-ADDRESS=Gordon Conwell Theological Seminary 130 Essex Street South Hamilton MA 01982 United States;X-APPLE-RADIUS=500;X-TITLE=130 Essex Street:geo:-70.8413379,42.6059581
END:VEVENT
BEGIN:VEVENT
DTSTART;VALUE=DATE:20260606
DTEND;VALUE=DATE:20260607
DTSTAMP:20260422T152220
CREATED:20260327T231007Z
LAST-MODIFIED:20260327T231051Z
UID:44812-1780704000-1780790399@uniteboston.com
SUMMARY:MA in Clinical Mental Health Counseling
DESCRIPTION:We would like to inform every one of the new Master’s program at Gordon College those interested in becoming Licensed Mental Health Counselors. Full time & part time enrollment with both in-person and online attendance is possible. Details can be found on the website www.gordon.edu/cmhc or be contacting the program director Dr. David Cook on 978-867-4555 or at David.cook@gordon.edu. Classes begin this July this year.
URL:https://uniteboston.com/event/ma-in-clinical-mental-health-counseling/
LOCATION:MA
CATEGORIES:Lecture,Training
ATTACH;FMTTYPE=image/png:https://uniteboston.com/wp-content/uploads/2026/03/CMHC-flyer.png
END:VEVENT
END:VCALENDAR