BEGIN:VCALENDAR
VERSION:2.0
PRODID:-//UniteBoston - ECPv6.15.20//NONSGML v1.0//EN
CALSCALE:GREGORIAN
METHOD:PUBLISH
X-ORIGINAL-URL:https://uniteboston.com
X-WR-CALDESC:Events for UniteBoston
REFRESH-INTERVAL;VALUE=DURATION:PT1H
X-Robots-Tag:noindex
X-PUBLISHED-TTL:PT1H
BEGIN:VTIMEZONE
TZID:America/New_York
BEGIN:DAYLIGHT
TZOFFSETFROM:-0500
TZOFFSETTO:-0400
TZNAME:EDT
DTSTART:20250309T070000
END:DAYLIGHT
BEGIN:STANDARD
TZOFFSETFROM:-0400
TZOFFSETTO:-0500
TZNAME:EST
DTSTART:20251102T060000
END:STANDARD
BEGIN:DAYLIGHT
TZOFFSETFROM:-0500
TZOFFSETTO:-0400
TZNAME:EDT
DTSTART:20260308T070000
END:DAYLIGHT
BEGIN:STANDARD
TZOFFSETFROM:-0400
TZOFFSETTO:-0500
TZNAME:EST
DTSTART:20261101T060000
END:STANDARD
BEGIN:DAYLIGHT
TZOFFSETFROM:-0500
TZOFFSETTO:-0400
TZNAME:EDT
DTSTART:20270314T070000
END:DAYLIGHT
BEGIN:STANDARD
TZOFFSETFROM:-0400
TZOFFSETTO:-0500
TZNAME:EST
DTSTART:20271107T060000
END:STANDARD
END:VTIMEZONE
BEGIN:VEVENT
DTSTART;VALUE=DATE:20260428
DTEND;VALUE=DATE:20260429
DTSTAMP:20260423T004302
CREATED:20260416T154029Z
LAST-MODIFIED:20260416T154029Z
UID:45716-1777334400-1777420799@uniteboston.com
SUMMARY:Beyond Simple Answers video podcast
DESCRIPTION:Series 1 of Theology Lab’s Beyond Simple Answers is out! This series is about searching for a theological vision when simple answers aren’t enough. Episodes 1-5\, each about 10-20 minutes long\, look at the problem of evil and suffering\, and what compelling responses to this topic — that go beyond simple answers — might look like.
URL:https://uniteboston.com/event/beyond-simple-answers-video-podcast/
LOCATION:online\, MA\, United States
CATEGORIES:Featured,Other
ATTACH;FMTTYPE=image/jpeg:https://uniteboston.com/wp-content/uploads/2026/04/short-form-thumnails-1000-x-1000-px-1000-x-1000-px-YouTube-Thumbnail-29.jpg
ORGANIZER;CN="Theology Lab (Highrock Church)":MAILTO:theologylab@highrock.org
GEO:42.4072107;-71.3824374
END:VEVENT
BEGIN:VEVENT
DTSTART;TZID=America/New_York:20260429T173000
DTEND;TZID=America/New_York:20260429T183000
DTSTAMP:20260423T004302
CREATED:20260401T183430Z
LAST-MODIFIED:20260401T183448Z
UID:45036-1777483800-1777487400@uniteboston.com
SUMMARY:An evening of poetry and conversation with Pádraig Ó Tuama
DESCRIPTION:The St. Paul Center for Theology and Prayer is delighted to join with the Episcopal Diocese of Massachusetts\, Christ Church Cambridge\, and the Harvard Episcopal Chaplaincy to host an evening of poetry and conversation\, featuring Pádraig Ó Tuama\, host of the Poetry Unbound podcast. Pádraig will read from his collection Kitchen Hymns\, as well as new work\, and will be joined by Bishop Julia Whitworth for a thoughtful conversation with the audience.  Also featuring special guest Riko Matsuoka\, Celtic harpist. \nFree general admission (as well as guaranteed reserved seating for a fee) is available here. Doors will open at 5:00 p.m. Seating is limited so register in advance and arrive early to secure your seat!
URL:https://uniteboston.com/event/an-evening-of-poetry-and-conversation-with-padraig-o-tuama/
LOCATION:Christ Church Cambridge\, 1 Garden St.\, Cambridge\, 02138\, United States
CATEGORIES:Other
ATTACH;FMTTYPE=image/png:https://uniteboston.com/wp-content/uploads/2026/03/Poetry-Reading-and-Conversation-6.png
ORGANIZER;CN="Episcopal Diosese of Massachusetts":MAILTO:www.diomass.org/
GEO:42.3756543;-71.1206572
X-APPLE-STRUCTURED-LOCATION;VALUE=URI;X-ADDRESS=Christ Church Cambridge 1 Garden St. Cambridge 02138 United States;X-APPLE-RADIUS=500;X-TITLE=1 Garden St.:geo:-71.1206572,42.3756543
END:VEVENT
BEGIN:VEVENT
DTSTART;TZID=America/New_York:20260504T190000
DTEND;TZID=America/New_York:20260504T210000
DTSTAMP:20260423T004302
CREATED:20260404T223854Z
LAST-MODIFIED:20260404T223854Z
UID:45156-1777921200-1777928400@uniteboston.com
SUMMARY:Open Mic Night
DESCRIPTION:Gospel @ Work is back for round 2 of Open Mic! Join us again for an evening of community supporting local talent in Boston. Last time we had musicians\, vocalists\, poets\, and even a comedian! If you’ve been sitting on something creative now is the time to bring it out!
URL:https://uniteboston.com/event/open-mic-night-2/
LOCATION:The Well Coffee House\, East Boston\, 173 Border Street\, East Boston\, MA\, 02128\, United States
CATEGORIES:Community Outreach,Other,Social
ATTACH;FMTTYPE=image/jpeg:https://uniteboston.com/wp-content/uploads/2026/04/IMG_9704.jpeg
GEO:42.3742508;-71.0399802
X-APPLE-STRUCTURED-LOCATION;VALUE=URI;X-ADDRESS=The Well Coffee House East Boston 173 Border Street East Boston MA 02128 United States;X-APPLE-RADIUS=500;X-TITLE=173 Border Street:geo:-71.0399802,42.3742508
END:VEVENT
BEGIN:VEVENT
DTSTART;TZID=America/New_York:20260529T183000
DTEND;TZID=America/New_York:20260529T210000
DTSTAMP:20260423T004302
CREATED:20260225T223452Z
LAST-MODIFIED:20260410T165706Z
UID:42763-1780079400-1780088400@uniteboston.com
SUMMARY:UniteBoston’s Annual Fundraising Celebration & Community Gathering
DESCRIPTION:You are invited to UniteBoston’s Fundraising Celebration and Community Gathering on Friday\, May 29 from 6:30 pm – 9:00 pm at the Bruce C. Bolling Building in Roxbury. This will be an evening of celebration with food\, joy\, and an opportunity to partner with us in our bridge-building work across Greater Boston. \nOur theme this year is “Illuminate.” In a time when division and uncertainty can feel heavy\, we believe Christ calls us to shine (Mt 5:16)—bringing light to hard places\, clarity to confusion\, and hope to weary hearts. At UniteBoston\, we are committed to equipping Christians to be peacemakers and bridge-builders—agents of unity\, reconciliation\, justice\, and repair. Illuminate reflects our prayer that the Church would not hide its light but embody it boldly and beautifully for the good of our city. \nThis year’s keynote speaker is Rev. Rozella Haydée White\, a public theologian\, ordained minister in the Evangelical Lutheran Church in America\, and “Love Big” coach. Dedicated to nurturing a love that is life-giving\, justice-seeking\, and restorative\, she has authored a book entitled Love Big: The Power of Revolutionary Relationships to Transform the World. \nRozella’s work deeply aligns with UniteBoston’s mission to heal divisions and strengthen the Church’s collective witness. Over the past year\, she has also played a vital role behind the scenes\, working directly with Rev. Kelly and Rev. Devlin as a coach for a capacity-building grant initiative. We are thrilled to have her voice guide us faithfully illuminating the gospel and bearing witness to Christ’s reconciling work in our beloved city. \n \nThe evening will also include a conversation with Rev. Kelly and Rev. Devlin\, stories of impact from our UniteBoston community\, and creative expressions that reflect the heart of this year’s theme. \nJoin us to connect with friends old and new—and to discover how you can participate in God’s reconciling\, restoring\, peacebuilding work through UniteBoston. \nWe’re excited to offer FREE childcare during the event\, provided by safe and vetted volunteers. Stay tuned for a link to register your children so we can prepare well for them. Children do not need a ticket to the event\, but advance registration is required. \nWe can’t wait to gather\, celebrate\, and shine together.  REGISTER BELOW \n \nTicket Options:\n\nGeneral Admission: $50\nStudent Admission: $25\nVolunteers: Free\n\nSponsorship Opportunities:\n\nGold Sponsor – $2\,000\nSilver Sponsor – $1\,000\nBronze Sponsor – $500\nTable Sponsor (Organization) – $300\n\nOur Goal: Raising $40\,000\nYour generous contributions will directly support our efforts to fortify Christian unity in Boston through strategic planning\, staff and consultant support\, and partnerships with local ministries. \nThank you for partnering with us to God’s work towards reconciliation\, justice\, and peacemaking in our city. If you have any questions or need further information\, please feel free to reach out. We are deeply grateful for your friendship\, encouragement\, and support\, and look forward to seeing you at the event!
URL:https://uniteboston.com/event/join-us-at-unitebostons-annual-fundraising-party-community-gathering/
LOCATION:Bruce Bolling Building\, 2300 Washington St\, Roxbury\, MA\, 02119\, United States
CATEGORIES:Children/Families,College Students,Community Outreach,Featured,Fundraiser,Other,Pastors,Social
ATTACH;FMTTYPE=image/png:https://uniteboston.com/wp-content/uploads/2026/02/UniteBoston-Fundraising-Celebration-and-Community-Gathering.png
ORGANIZER;CN="UniteBoston":MAILTO:info@uniteboston.com
GEO:42.3301441;-71.0838242
X-APPLE-STRUCTURED-LOCATION;VALUE=URI;X-ADDRESS=Bruce Bolling Building 2300 Washington St Roxbury MA 02119 United States;X-APPLE-RADIUS=500;X-TITLE=2300 Washington St:geo:-71.0838242,42.3301441
END:VEVENT
END:VCALENDAR