BEGIN:VCALENDAR
VERSION:2.0
PRODID:-//UniteBoston - ECPv6.15.20//NONSGML v1.0//EN
CALSCALE:GREGORIAN
METHOD:PUBLISH
X-ORIGINAL-URL:https://uniteboston.com
X-WR-CALDESC:Events for UniteBoston
REFRESH-INTERVAL;VALUE=DURATION:PT1H
X-Robots-Tag:noindex
X-PUBLISHED-TTL:PT1H
BEGIN:VTIMEZONE
TZID:America/New_York
BEGIN:DAYLIGHT
TZOFFSETFROM:-0500
TZOFFSETTO:-0400
TZNAME:EDT
DTSTART:20230312T070000
END:DAYLIGHT
BEGIN:STANDARD
TZOFFSETFROM:-0400
TZOFFSETTO:-0500
TZNAME:EST
DTSTART:20231105T060000
END:STANDARD
BEGIN:DAYLIGHT
TZOFFSETFROM:-0500
TZOFFSETTO:-0400
TZNAME:EDT
DTSTART:20240310T070000
END:DAYLIGHT
BEGIN:STANDARD
TZOFFSETFROM:-0400
TZOFFSETTO:-0500
TZNAME:EST
DTSTART:20241103T060000
END:STANDARD
BEGIN:DAYLIGHT
TZOFFSETFROM:-0500
TZOFFSETTO:-0400
TZNAME:EDT
DTSTART:20250309T070000
END:DAYLIGHT
BEGIN:STANDARD
TZOFFSETFROM:-0400
TZOFFSETTO:-0500
TZNAME:EST
DTSTART:20251102T060000
END:STANDARD
END:VTIMEZONE
BEGIN:VEVENT
DTSTART;TZID=America/New_York:20241117T093000
DTEND;TZID=America/New_York:20241117T110000
DTSTAMP:20260422T170726
CREATED:20240903T221827Z
LAST-MODIFIED:20241025T183631Z
UID:25507-1731835800-1731841200@uniteboston.com
SUMMARY:FAITH BASED ORGANIZING WITH DREW HART\, PhD.
DESCRIPTION:FAITH BASED ORGANIZING WITH DREW HART\, PhD. Theologian and Post Evangelical Leader. \nSunday\, Nov 17th | 9:30 a.m. \nDrew Hart\, guest preacher \n6 – 8:00 p.m. Dinner\, w/Drew Hart and Post Evangelical Leaders. \nMonday\, Nov 18th | 10 – 1:00 p.m. \nWorkshop on faith-based organizing – the whys and hows of mobilizing the church for grassroots social change. \n($50/participant\, $30/participant teams of three or more. Lunch included.)
URL:https://uniteboston.com/event/faith-based-organizing-with-drew-hart-phd/2024-11-17/
LOCATION:Reservoir Church\, 170 Rindge Ave\, Cambridge\, 02140\, United States
CATEGORIES:Lecture,Pastors,Training
ATTACH;FMTTYPE=image/png:https://uniteboston.com/wp-content/uploads/2024/09/Drew-Hart-Flyer-November-2024.png
ORGANIZER;CN="Reservoir Church":MAILTO:helen@reservoirchurch.org
GEO:42.3917953;-71.131417
X-APPLE-STRUCTURED-LOCATION;VALUE=URI;X-ADDRESS=Reservoir Church 170 Rindge Ave Cambridge 02140 United States;X-APPLE-RADIUS=500;X-TITLE=170 Rindge Ave:geo:-71.131417,42.3917953
END:VEVENT
END:VCALENDAR