BEGIN:VCALENDAR
VERSION:2.0
PRODID:-//UniteBoston - ECPv6.15.20//NONSGML v1.0//EN
CALSCALE:GREGORIAN
METHOD:PUBLISH
X-ORIGINAL-URL:https://uniteboston.com
X-WR-CALDESC:Events for UniteBoston
REFRESH-INTERVAL;VALUE=DURATION:PT1H
X-Robots-Tag:noindex
X-PUBLISHED-TTL:PT1H
BEGIN:VTIMEZONE
TZID:America/New_York
BEGIN:DAYLIGHT
TZOFFSETFROM:-0500
TZOFFSETTO:-0400
TZNAME:EDT
DTSTART:20230312T070000
END:DAYLIGHT
BEGIN:STANDARD
TZOFFSETFROM:-0400
TZOFFSETTO:-0500
TZNAME:EST
DTSTART:20231105T060000
END:STANDARD
BEGIN:DAYLIGHT
TZOFFSETFROM:-0500
TZOFFSETTO:-0400
TZNAME:EDT
DTSTART:20240310T070000
END:DAYLIGHT
BEGIN:STANDARD
TZOFFSETFROM:-0400
TZOFFSETTO:-0500
TZNAME:EST
DTSTART:20241103T060000
END:STANDARD
BEGIN:DAYLIGHT
TZOFFSETFROM:-0500
TZOFFSETTO:-0400
TZNAME:EDT
DTSTART:20250309T070000
END:DAYLIGHT
BEGIN:STANDARD
TZOFFSETFROM:-0400
TZOFFSETTO:-0500
TZNAME:EST
DTSTART:20251102T060000
END:STANDARD
END:VTIMEZONE
BEGIN:VEVENT
DTSTART;TZID=America/New_York:20241001T190000
DTEND;TZID=America/New_York:20241105T203000
DTSTAMP:20260422T121634
CREATED:20240910T185818Z
LAST-MODIFIED:20241031T143241Z
UID:25567-1727809200-1730838600@uniteboston.com
SUMMARY:Lazarus at the Gate Small Group
DESCRIPTION:Join us for 5 Tuesday nights (7pm – 8:30pm) via Zoom starting October 1st for a small group Bible study that challenges participants to understand the Biblical foundation for generosity\, simple living and just consumption. We will consider together what it means to live gratefully\, simply\, justly and generously looking both at the Biblical call and the practical realties of injustice in our world. This transformative study has been inspiring and challenging Christians to align ourselves with the plan God has for us to live faithfully and seek the thriving of our world for over twenty years! Come be a part of this group! Sign up here. Reach out to elizabeth@bostonfaitjustice.org with any questions.
URL:https://uniteboston.com/event/lazarus-at-the-gate-small-group-3/
LOCATION:online\, MA\, United States
CATEGORIES:Lecture
ATTACH;FMTTYPE=image/jpeg:https://uniteboston.com/wp-content/uploads/2024/09/Image-9-10-24-at-9.35 AM.jpeg
ORGANIZER;CN="Boston Faith and Justice Network":MAILTO:elizabeth@bostonfaithjustice.org, events@bostonfaithjustice.org
GEO:42.4072107;-71.3824374
END:VEVENT
BEGIN:VEVENT
DTSTART;TZID=America/New_York:20241105T183000
DTEND;TZID=America/New_York:20241105T203000
DTSTAMP:20260422T121634
CREATED:20241101T155419Z
LAST-MODIFIED:20241101T155419Z
UID:26064-1730831400-1730838600@uniteboston.com
SUMMARY:Sound the Trumpet Preaching Session
DESCRIPTION:The Sound the Trumpet in Zion Preaching Conference on October 3-4\, 2024 was an overwhelming success!  Unashamedly Black\, unapologetically Christian\, and unabashedly inclusive\, Christians from across New England gathered for two days of worship and workshops to sharpen their craft\, grounded in Black church traditions. \nAll preachers and church leaders are invited to an additional Preaching Session with Rev. Dr. Martha Simons on Tuesday November 5 at 6:30pm EST. You MUST register at the zoom link.  \nDr. Martha Simmons will lead a conversation on “Doing the Deed: Preaching for the Present Age.” As we face several obstacles and opportunities\, my prayer is that we will be able to communicate a message of light in darkness.
URL:https://uniteboston.com/event/sound-the-trumpet-preaching-session/
LOCATION:Online Event\, Online Event\, Boston\, MA\, 02120\, United States
CATEGORIES:Featured,Lecture,Pastors,Training
ATTACH;FMTTYPE=image/png:https://uniteboston.com/wp-content/uploads/2024/11/unnamed-22.png
ORGANIZER;CN="Black Ecumenical Council":MAILTO:kenneth@masscouncilofchurches.org
GEO:42.3373143;-71.0836938
X-APPLE-STRUCTURED-LOCATION;VALUE=URI;X-ADDRESS=Online Event Online Event Boston MA 02120 United States;X-APPLE-RADIUS=500;X-TITLE=Online Event:geo:-71.0836938,42.3373143
END:VEVENT
BEGIN:VEVENT
DTSTART;TZID=America/New_York:20241110T143000
DTEND;TZID=America/New_York:20241110T170000
DTSTAMP:20260422T121634
CREATED:20241015T000239Z
LAST-MODIFIED:20241023T154746Z
UID:25904-1731249000-1731258000@uniteboston.com
SUMMARY:Legacy of Slavery at Harvard University tour
DESCRIPTION:“If you abide in my word\, you are truly my disciples\, and you will know the truth\, and the truth will set you free.” (John 8:31-32) \n\n\n\n\n“VERITAS” – Harvard’s motto “Truth” inscribed on gates\, doorways\, and sculptures all over campus \n\n\n\nJoin UniteBoston’s Sankofa cohort for Legacy of Slavery at Harvard University tour\, which uncovers the truth of Harvard University’s entanglements with the institution of slavery through a 10-stop tour. The stops on the tour provide an opportunity to learn about a part of Harvard’s history that has long been hidden in plain sight. In addition\, the tour elevates stories of Black women and men whose resistance and leadership have shaped the University—and our nation. \n\n\n\nThe tour will be led by Rev. Rita Powell\, director of the Episcopal Chaplaincy at Harvard University. We will take special note of the way Christian congregations and churches have contributed or resisted the institution of slavery\, and the repair work that is taking place today. The tour will go from 2:30pm – 4:30pm at the Harvard-Episcopal chaplaincy building\, 1A Garden Street\, Cambridge MA 02138\, and will conclude with a time of refreshments from 4:30 to 5:00pm in the same location. \nFrom Megan Lietz\, director of the Race & Christian Community Initiative and Sankofa group member: “Boston is known for its world-class colleges and universities. But many of these institutions were built on the backs of enslaved people. Take the time to better understand how our city’s academic success has been shaped by the institution of slavery through a history of slavery at Harvard tour.” \n\nClick Here to Register\n\nP.S. If you’re not able to make it on this date and time\, the tour can also be experienced online here and there are many other resources regarding Harvard and the Legacy of Slavery \n\n\n\nP.P.S. Curious what the tour is like? Dr. Michael James\, a previous UniteBoston cohort member\, has written a blog sharing his experience in the walking tour about how it nurtured love and a shared humanity. \n 
URL:https://uniteboston.com/event/legacy-of-slavery-at-harvard-university-tour/
LOCATION:Harvard-Episcopal Chaplaincy\, 1A Garden Street\, Cambridge\, MA\, 02138\, United States
CATEGORIES:Children/Families,College Students,Featured,Justice,Lecture
ATTACH;FMTTYPE=image/png:https://uniteboston.com/wp-content/uploads/2024/10/Slavery-Tour-2.png
ORGANIZER;CN="UniteBoston":MAILTO:info@uniteboston.com
GEO:42.3754959;-71.1208114
X-APPLE-STRUCTURED-LOCATION;VALUE=URI;X-ADDRESS=Harvard-Episcopal Chaplaincy 1A Garden Street Cambridge MA 02138 United States;X-APPLE-RADIUS=500;X-TITLE=1A Garden Street:geo:-71.1208114,42.3754959
END:VEVENT
END:VCALENDAR