BEGIN:VCALENDAR
VERSION:2.0
PRODID:-//UniteBoston - ECPv6.15.20//NONSGML v1.0//EN
CALSCALE:GREGORIAN
METHOD:PUBLISH
X-ORIGINAL-URL:https://uniteboston.com
X-WR-CALDESC:Events for UniteBoston
REFRESH-INTERVAL;VALUE=DURATION:PT1H
X-Robots-Tag:noindex
X-PUBLISHED-TTL:PT1H
BEGIN:VTIMEZONE
TZID:America/New_York
BEGIN:DAYLIGHT
TZOFFSETFROM:-0500
TZOFFSETTO:-0400
TZNAME:EDT
DTSTART:20240310T070000
END:DAYLIGHT
BEGIN:STANDARD
TZOFFSETFROM:-0400
TZOFFSETTO:-0500
TZNAME:EST
DTSTART:20241103T060000
END:STANDARD
BEGIN:DAYLIGHT
TZOFFSETFROM:-0500
TZOFFSETTO:-0400
TZNAME:EDT
DTSTART:20250309T070000
END:DAYLIGHT
BEGIN:STANDARD
TZOFFSETFROM:-0400
TZOFFSETTO:-0500
TZNAME:EST
DTSTART:20251102T060000
END:STANDARD
BEGIN:DAYLIGHT
TZOFFSETFROM:-0500
TZOFFSETTO:-0400
TZNAME:EDT
DTSTART:20260308T070000
END:DAYLIGHT
BEGIN:STANDARD
TZOFFSETFROM:-0400
TZOFFSETTO:-0500
TZNAME:EST
DTSTART:20261101T060000
END:STANDARD
END:VTIMEZONE
BEGIN:VEVENT
DTSTART;TZID=America/New_York:20250922T073000
DTEND;TZID=America/New_York:20251013T153000
DTSTAMP:20260419T103020
CREATED:20250918T204231Z
LAST-MODIFIED:20250918T204231Z
UID:37380-1758526200-1760369400@uniteboston.com
SUMMARY:Christian Educator Positions Open at Grace Prep
DESCRIPTION:Do you know someone who loves teaching\, investing in students\, and being part of a Christ-centered community? Grace Prep is looking for part-time\, passionate educators and teaching assistants to join our team! This is an incredible opportunity to make a lasting impact\, grow alongside a supportive staff\, and inspire the next generation of learners. \nCheck out our open positions here. \nCome be part of something special—we’d love to hear from you! \n 
URL:https://uniteboston.com/event/christian-educator-positions-open-at-grace-prep/
LOCATION:Grace Preparatory Academy\, 754 Greendale Ave\, Needham\, MA\, 02492\, United States
CATEGORIES:Children/Families,Featured,Job Posting
ATTACH;FMTTYPE=image/jpeg:https://uniteboston.com/wp-content/uploads/2025/09/CMYK_Grace-Preparatory-Academy_Vertical-Logo.jpg
ORGANIZER;CN="Jenna Wertheimer":MAILTO:graceprepboston@gmail.com
GEO:42.2835396;-71.2062575
X-APPLE-STRUCTURED-LOCATION;VALUE=URI;X-ADDRESS=Grace Preparatory Academy 754 Greendale Ave Needham MA 02492 United States;X-APPLE-RADIUS=500;X-TITLE=754 Greendale Ave:geo:-71.2062575,42.2835396
END:VEVENT
END:VCALENDAR