BEGIN:VCALENDAR
VERSION:2.0
PRODID:-//UniteBoston - ECPv6.15.20//NONSGML v1.0//EN
CALSCALE:GREGORIAN
METHOD:PUBLISH
X-WR-CALNAME:UniteBoston
X-ORIGINAL-URL:https://uniteboston.com
X-WR-CALDESC:Events for UniteBoston
REFRESH-INTERVAL;VALUE=DURATION:PT1H
X-Robots-Tag:noindex
X-PUBLISHED-TTL:PT1H
BEGIN:VTIMEZONE
TZID:America/New_York
BEGIN:DAYLIGHT
TZOFFSETFROM:-0500
TZOFFSETTO:-0400
TZNAME:EDT
DTSTART:20170312T070000
END:DAYLIGHT
BEGIN:STANDARD
TZOFFSETFROM:-0400
TZOFFSETTO:-0500
TZNAME:EST
DTSTART:20171105T060000
END:STANDARD
BEGIN:DAYLIGHT
TZOFFSETFROM:-0500
TZOFFSETTO:-0400
TZNAME:EDT
DTSTART:20180311T070000
END:DAYLIGHT
BEGIN:STANDARD
TZOFFSETFROM:-0400
TZOFFSETTO:-0500
TZNAME:EST
DTSTART:20181104T060000
END:STANDARD
BEGIN:DAYLIGHT
TZOFFSETFROM:-0500
TZOFFSETTO:-0400
TZNAME:EDT
DTSTART:20190310T070000
END:DAYLIGHT
BEGIN:STANDARD
TZOFFSETFROM:-0400
TZOFFSETTO:-0500
TZNAME:EST
DTSTART:20191103T060000
END:STANDARD
END:VTIMEZONE
BEGIN:VEVENT
DTSTART;VALUE=DATE:20180508
DTEND;VALUE=DATE:20180901
DTSTAMP:20260421T040711
CREATED:20180509T112234Z
LAST-MODIFIED:20180603T185607Z
UID:12473-1525737600-1535759999@uniteboston.com
SUMMARY:Grace Preparatory Academy - Open Enrollment
DESCRIPTION:Grace Preparatory Academy is currently looking for families interested in joining a dynamic community of home schooling families who are served by Grace Prep’s two day a week school.  We would love to speak with families who would like to learn more or who are interested in applying.  Grace Prep has served families from dozens of churches\, backgrounds\, and denominations. \nGrace Preparatory Academy of Greater Boston is a private\, non-denominational Christian\, university-model school that takes the best attributes of homeschooling and combines them with the best attributes of traditional\, Christian education. Our mission is to partner with families to create an educational environment which inspires a love for learning and a hunger for the kingdom of God.\n\nClasses are offered at affordable rates to children in Kindergarten through grade 5.\nStudents attend Grace Prep Mondays and Wednesdays and learn at home on Tuesdays\, Thursdays\, and Fridays.\nStudents are taught by certified/qualified teachers in multi-grade classrooms.\nParents follow teacher-directed curriculum covering Math\, English Language Arts\, Science\, History\, Art\, Music\, and Character Training.\nGrace Prep Boston is transitioning to a University Model® school associated with University Model Schools International (www.umsi.org).
URL:https://uniteboston.com/event/grace-preparatory-academy-open-enrollment/
LOCATION:MA
CATEGORIES:Children/Families,Other
ATTACH;FMTTYPE=image/jpeg:https://uniteboston.com/wp-content/uploads/2018/05/graceprep.jpg
ORGANIZER;CN="Grace Preparatory Academy":MAILTO:graceprepboston@gmail.com
END:VEVENT
BEGIN:VEVENT
DTSTART;VALUE=DATE:20180802
DTEND;VALUE=DATE:20180813
DTSTAMP:20260421T040711
CREATED:20180803T002730Z
LAST-MODIFIED:20180804T144358Z
UID:12865-1533168000-1534118399@uniteboston.com
SUMMARY:Open Teaching Positions at Park Street School
DESCRIPTION:Park Street School has several open teaching positions for the 2018-19 school year. Please contact employment@parkstreetschool.org for full job descriptions and application instructions. \n-Grade 1-6 Spanish Teacher\n-Preschool Lead & Associate Teachers\n-Auxiliary Program Coordinator\n-Substitute Teachers\n-After-school Teachers
URL:https://uniteboston.com/event/open-teaching-positions-at-park-street-school/
LOCATION:Park Street School\, 67 Brimmer Street\, Boston\, MA\, 02108\, United States
CATEGORIES:Children/Families,Featured,Other
ATTACH;FMTTYPE=image/jpeg:https://uniteboston.com/wp-content/uploads/2018/08/mission.jpg
ORGANIZER;CN="Park Street School Employment":MAILTO:employment@parkstreetschool.org
GEO:42.3564464;-71.071737
X-APPLE-STRUCTURED-LOCATION;VALUE=URI;X-ADDRESS=Park Street School 67 Brimmer Street Boston MA 02108 United States;X-APPLE-RADIUS=500;X-TITLE=67 Brimmer Street:geo:-71.071737,42.3564464
END:VEVENT
BEGIN:VEVENT
DTSTART;VALUE=DATE:20180806
DTEND;VALUE=DATE:20180811
DTSTAMP:20260421T040711
CREATED:20180620T154616Z
LAST-MODIFIED:20180620T154616Z
UID:12635-1533513600-1533945599@uniteboston.com
SUMMARY:Brown Bag Retreat Week
DESCRIPTION:The Brown Bag Retreat Week is an invitation from the Shoemaker Center for Church Renewal to bring your own project to Gordon-Conwell Theological Seminary and join pastors from around New England and beyond for your own week-long study leave. With a little help from us\, you can enjoy the beauty of the Gordon-Conwell campus and take advantage of its resources. The Brown Bag Retreat Week offers a full plate of opportunity at a “brown bag” price.
URL:https://uniteboston.com/event/brown-bag-retreat-week/
LOCATION:Gordon Conwell Theological Seminary\, 130 Essex Street\, South Hamilton\, MA\, 01982\, United States
CATEGORIES:Pastors,Prayer,Social
ATTACH;FMTTYPE=image/jpeg:https://uniteboston.com/wp-content/uploads/2018/06/Slide1.jpg
ORGANIZER;CN="Susanne Royer McCarron":MAILTO:shoemaker@gordonconwell.edu
GEO:42.6059581;-70.8413379
X-APPLE-STRUCTURED-LOCATION;VALUE=URI;X-ADDRESS=Gordon Conwell Theological Seminary 130 Essex Street South Hamilton MA 01982 United States;X-APPLE-RADIUS=500;X-TITLE=130 Essex Street:geo:-70.8413379,42.6059581
END:VEVENT
END:VCALENDAR