BEGIN:VCALENDAR
VERSION:2.0
PRODID:-//UniteBoston - ECPv6.15.20//NONSGML v1.0//EN
CALSCALE:GREGORIAN
METHOD:PUBLISH
X-ORIGINAL-URL:https://uniteboston.com
X-WR-CALDESC:Events for UniteBoston
REFRESH-INTERVAL;VALUE=DURATION:PT1H
X-Robots-Tag:noindex
X-PUBLISHED-TTL:PT1H
BEGIN:VTIMEZONE
TZID:America/New_York
BEGIN:DAYLIGHT
TZOFFSETFROM:-0500
TZOFFSETTO:-0400
TZNAME:EDT
DTSTART:20220313T070000
END:DAYLIGHT
BEGIN:STANDARD
TZOFFSETFROM:-0400
TZOFFSETTO:-0500
TZNAME:EST
DTSTART:20221106T060000
END:STANDARD
BEGIN:DAYLIGHT
TZOFFSETFROM:-0500
TZOFFSETTO:-0400
TZNAME:EDT
DTSTART:20230312T070000
END:DAYLIGHT
BEGIN:STANDARD
TZOFFSETFROM:-0400
TZOFFSETTO:-0500
TZNAME:EST
DTSTART:20231105T060000
END:STANDARD
BEGIN:DAYLIGHT
TZOFFSETFROM:-0500
TZOFFSETTO:-0400
TZNAME:EDT
DTSTART:20240310T070000
END:DAYLIGHT
BEGIN:STANDARD
TZOFFSETFROM:-0400
TZOFFSETTO:-0500
TZNAME:EST
DTSTART:20241103T060000
END:STANDARD
END:VTIMEZONE
BEGIN:VEVENT
DTSTART;TZID=America/New_York:20230630T190000
DTEND;TZID=America/New_York:20230630T210000
DTSTAMP:20260423T034505
CREATED:20230617T173548Z
LAST-MODIFIED:20230623T154956Z
UID:22449-1688151600-1688158800@uniteboston.com
SUMMARY:All Heaven Broke Loose
DESCRIPTION:All Heaven Broke Loose – A new Passion play \nStill Small Theatre presents All Heaven Broke Loose\, a new full-length drama about Jesus’ death and Resurrection. Come hear from a multitude of voices – from Peter to Pilate\, from Joanna to Joseph of Arimathea – as the threads of history\, Scripture\, and their own lives are woven together in ways they never expected. \nJoin us afterwards for a discussion with cast\, crew\, and creators! See stillsmalltheatre.com for more details. \nTickets are available online at www.stillsmalltheatre.com; $15 or by donation. \nJune 30\, July 1\, July 7-8 \n7pm \nEast Baptist Church 300 Western Ave.\, Lynn MA \nstillsmalltheatre.com
URL:https://uniteboston.com/event/all-heaven-broke-loose-4/2023-06-30/
LOCATION:East Baptist Church\, 300 Western Ave.\, Lynn\, MA\, 01904\, United States
CATEGORIES:Children/Families,College Students,Community Outreach,Featured,Other,Pastors,Social,Worship
ATTACH;FMTTYPE=image/png:https://uniteboston.com/wp-content/uploads/2023/06/Screen-Shot-2023-06-17-at-1.34.17-PM.png
ORGANIZER;CN="Still Small Theatre":MAILTO:stillsmalltheatre@gmail.com
GEO:42.4749633;-70.9502517
X-APPLE-STRUCTURED-LOCATION;VALUE=URI;X-ADDRESS=East Baptist Church 300 Western Ave. Lynn MA 01904 United States;X-APPLE-RADIUS=500;X-TITLE=300 Western Ave.:geo:-70.9502517,42.4749633
END:VEVENT
END:VCALENDAR